BEGIN:VCALENDAR
VERSION:2.0
PRODID:-//WOVEN - ECPv6.0.12//NONSGML v1.0//EN
CALSCALE:GREGORIAN
METHOD:PUBLISH
X-WR-CALNAME:WOVEN
X-ORIGINAL-URL:https://woveninkirklees.co.uk
X-WR-CALDESC:Events for WOVEN
REFRESH-INTERVAL;VALUE=DURATION:PT1H
X-Robots-Tag:noindex
X-PUBLISHED-TTL:PT1H
BEGIN:VTIMEZONE
TZID:Europe/London
BEGIN:DAYLIGHT
TZOFFSETFROM:+0000
TZOFFSETTO:+0100
TZNAME:BST
DTSTART:20250330T010000
END:DAYLIGHT
BEGIN:STANDARD
TZOFFSETFROM:+0100
TZOFFSETTO:+0000
TZNAME:GMT
DTSTART:20251026T010000
END:STANDARD
END:VTIMEZONE
BEGIN:VEVENT
DTSTART;TZID=Europe/London:20250628T130000
DTEND;TZID=Europe/London:20250628T160000
DTSTAMP:20260422T035710
CREATED:20250401T090257Z
LAST-MODIFIED:20250403T115207Z
UID:7526-1751115600-1751126400@woveninkirklees.co.uk
SUMMARY:Together We Bloom - A Family-Friendly Flower Crafting Afternoon
DESCRIPTION:Let your imaginations run wild in the garden as we make fantastic flowers from willow withies (or rods) in the sunshine\, and then add colour to them using threads\, strips of fabric\, beads\, buttons and whatever else takes your fancy! Don’t worry if the weather isn’t on our side\, as we can move indoors if necessary. \nThis lovely\, laid-back session is suitable for all ages (children must be supervised by a responsible adult at all times please.) If you have any buttons\, beads\, or scraps of fabric at home that you would like to incorporate in your flowery artwork… please bring them along. \nWe’ll have cups of tea\, cold drinks and plenty of biscuits to keep your energy levels up as we craft our way through the afternoon! \nThis is a FREE event\, but please make sure you book via contact@s2r.org.uk \nThis event is part of the WOVEN community programme.
URL:https://woveninkirklees.co.uk/event/together-we-bloom-a-family-friendly-flower-crafting-afternoon/
LOCATION:Moldgreen United Reform Church\, Old Wakefield Road\, Moldgreen\, HD5 8AA\, United Kingdom
CATEGORIES:Community Submitted,Demonstration/Workshop,Family Friendly
ATTACH;FMTTYPE=image/jpeg:https://woveninkirklees.co.uk/wp-content/uploads/2025/03/S2R_Flower-Crafting-scaled.jpg
GEO:53.6441031;-1.7628014
X-APPLE-STRUCTURED-LOCATION;VALUE=URI;X-ADDRESS=Moldgreen United Reform Church Old Wakefield Road Moldgreen HD5 8AA United Kingdom;X-APPLE-RADIUS=500;X-TITLE=Old Wakefield Road:geo:-1.7628014,53.6441031
END:VEVENT
BEGIN:VEVENT
DTSTART;VALUE=DATE:20250601
DTEND;VALUE=DATE:20250701
DTSTAMP:20260422T035710
CREATED:20250401T080339Z
LAST-MODIFIED:20250408T153953Z
UID:7522-1748736000-1751327999@woveninkirklees.co.uk
SUMMARY:Threads of Kindness and Connection
DESCRIPTION:Unite Respect Connect-Huddersfield and HD5 Community Hub have worked together to involve residents of all ages in sewing\, stitching\, sticking\, printing\, drawing\, knitting crocheting (and everything in-between)\, a brilliant bunting bonanza which will be displayed in the Community Garden at Moldgreen URC during June. Each bunting “flag” is unique\, just like our community …. and together they are amazing! \nFrom the Church on Old Wakefield Road\, right up to the Post Office ’round the corner on Broad Lane – keep an eye out for some colourful “woolly wonders” decorating the street furniture\, trees and maybe some surprise locations too! Made with enthusiasm and love by members of the Knit and Natter group at MURC\, community crafters and wool whisperers! \nWe hope you have a Wonderful WOVEN festival – Come and see us! We’d love to meet you. \nThis event is part of the WOVEN community programme. \nFree to attend. No booking required. \nLocation: From Moldgreen United Reformed Church\, Old Wakefield Road\, Moldgreen\, HD5 8AA to Moldgreen Post Office\, Broad Lane HD5 9BX
URL:https://woveninkirklees.co.uk/event/threads-of-kindness-and-connection/
LOCATION:Moldgreen United Reform Church\, Old Wakefield Road\, Moldgreen\, HD5 8AA\, United Kingdom
CATEGORIES:Community Submitted,Family Friendly,Sewing,Visual Art,Yarn Bomb
ATTACH;FMTTYPE=image/jpeg:https://woveninkirklees.co.uk/wp-content/uploads/2025/03/S2R_Threads-of-Kindenss.jpg
GEO:53.6441031;-1.7628014
X-APPLE-STRUCTURED-LOCATION;VALUE=URI;X-ADDRESS=Moldgreen United Reform Church Old Wakefield Road Moldgreen HD5 8AA United Kingdom;X-APPLE-RADIUS=500;X-TITLE=Old Wakefield Road:geo:-1.7628014,53.6441031
END:VEVENT
END:VCALENDAR