BEGIN:VCALENDAR
VERSION:2.0
PRODID:-//WOVEN - ECPv6.0.12//NONSGML v1.0//EN
CALSCALE:GREGORIAN
METHOD:PUBLISH
X-WR-CALNAME:WOVEN
X-ORIGINAL-URL:https://woveninkirklees.co.uk
X-WR-CALDESC:Events for WOVEN
REFRESH-INTERVAL;VALUE=DURATION:PT1H
X-Robots-Tag:noindex
X-PUBLISHED-TTL:PT1H
BEGIN:VTIMEZONE
TZID:Europe/London
BEGIN:DAYLIGHT
TZOFFSETFROM:+0000
TZOFFSETTO:+0100
TZNAME:BST
DTSTART:20250330T010000
END:DAYLIGHT
BEGIN:STANDARD
TZOFFSETFROM:+0100
TZOFFSETTO:+0000
TZNAME:GMT
DTSTART:20251026T010000
END:STANDARD
END:VTIMEZONE
BEGIN:VEVENT
DTSTART;TZID=Europe/London:20250604T140000
DTEND;TZID=Europe/London:20250604T153000
DTSTAMP:20260421T170735
CREATED:20250401T082312Z
LAST-MODIFIED:20250512T111112Z
UID:7812-1749045600-1749051000@woveninkirklees.co.uk
SUMMARY:John L Brierley Mill Tour and History
DESCRIPTION:Join us in person at John L Brierley Ltd for an exciting behind-the-scenes look at our historic mill. \nDiscover the processes involved in producing weavers beams and pipecleaners\, see our staff in action and hear about the company’s history. \nDon’t miss this unique opportunity to experience a working mill up close and personal. \nFree to attend but booking is essential \nBOOKING LINK HERE \nThis event is part of the WOVEN community programme. if you have any questions regarding the tour please contact the John L Brierley team. \nTHIS EVENT IS NOW FULLY BOOKED – have a look at some of the other tours happening during WOVEN \n  \n 
URL:https://woveninkirklees.co.uk/event/john-l-brierley-mill-tour-and-history/
LOCATION:John L Brierley Mill\, Turnbridge Mills\, Quay Street\, Huddersfield\, HD1 6QT\, United Kingdom
CATEGORIES:Community Submitted,Open Day/Guided Tour,Talk
ATTACH;FMTTYPE=image/jpeg:https://woveninkirklees.co.uk/wp-content/uploads/2025/03/John-L-Brierley_mill-Tour_collage-scaled.jpg
GEO:53.6476443;-1.7764389
X-APPLE-STRUCTURED-LOCATION;VALUE=URI;X-ADDRESS=John L Brierley Mill Turnbridge Mills Quay Street Huddersfield HD1 6QT United Kingdom;X-APPLE-RADIUS=500;X-TITLE=Turnbridge Mills\, Quay Street:geo:-1.7764389,53.6476443
END:VEVENT
END:VCALENDAR