BEGIN:VCALENDAR
VERSION:2.0
PRODID:-//WOVEN - ECPv6.0.12//NONSGML v1.0//EN
CALSCALE:GREGORIAN
METHOD:PUBLISH
X-ORIGINAL-URL:https://woveninkirklees.co.uk
X-WR-CALDESC:Events for WOVEN
REFRESH-INTERVAL;VALUE=DURATION:PT1H
X-Robots-Tag:noindex
X-PUBLISHED-TTL:PT1H
BEGIN:VTIMEZONE
TZID:Europe/London
BEGIN:DAYLIGHT
TZOFFSETFROM:+0000
TZOFFSETTO:+0100
TZNAME:BST
DTSTART:20250330T010000
END:DAYLIGHT
BEGIN:STANDARD
TZOFFSETFROM:+0100
TZOFFSETTO:+0000
TZNAME:GMT
DTSTART:20251026T010000
END:STANDARD
END:VTIMEZONE
BEGIN:VEVENT
DTSTART;TZID=Europe/London:20250628T120000
DTEND;TZID=Europe/London:20250628T150000
DTSTAMP:20260423T031806
CREATED:20250623T154232Z
LAST-MODIFIED:20250623T163556Z
UID:8608-1751112000-1751122800@woveninkirklees.co.uk
SUMMARY:Family Kite Flying Afternoon
DESCRIPTION:WOVEN and The Lipstick Project invite you\, your family and friends\, to enjoy a relaxing afternoon in the sunshine and an opportunity to fly kites. \nThis event is a culmination of our Kite Making Project\, which took place in the Birkby and Fartown Communities across the month of May. It’s a celebration of community\, family and fun in the sun. \nBring a blanket and a kite (if you have one) and come to share the afternoon with us in Greenhead Park (upper field). \nFor more information please contact The Lipstick Project: 07877 089 800 and follow The Lipstick Project on instagram @lipstick1792
URL:https://woveninkirklees.co.uk/event/family-kite-flying-afternoon/
LOCATION:Greenhead Park\, Trinity Street\, Huddersfield\, HD1 4DT\, United Kingdom
CATEGORIES:Family Friendly,Visual Art
ATTACH;FMTTYPE=image/jpeg:https://woveninkirklees.co.uk/wp-content/uploads/2025/06/WOVEN_KiteProjectDay_crop-for-website.jpg
GEO:53.6493241;-1.7939472
X-APPLE-STRUCTURED-LOCATION;VALUE=URI;X-ADDRESS=Greenhead Park Trinity Street Huddersfield HD1 4DT United Kingdom;X-APPLE-RADIUS=500;X-TITLE=Trinity Street:geo:-1.7939472,53.6493241
END:VEVENT
BEGIN:VEVENT
DTSTART;TZID=Europe/London:20250601T140000
DTEND;TZID=Europe/London:20250601T170000
DTSTAMP:20260423T031806
CREATED:20250527T092751Z
LAST-MODIFIED:20250527T094138Z
UID:8504-1748786400-1748797200@woveninkirklees.co.uk
SUMMARY:Marshian Arts Craft Group
DESCRIPTION:Come and share your craft and enjoy a chat and a cup of tea. \nBring along whatever craft project you are working on – or just come and see what other people are doing. \nYou do not need to be an expert in your craft\, just enjoy it and come to share your enjoyment. \nThere is no specialised equipment available so just bear that in mind when deciding what to bring. \nCommunity Room next to the cafe in Greenhead Park\, HD1 4DT \nThis event is part of the WOVEN community programme.
URL:https://woveninkirklees.co.uk/event/marshian-arts-craft-group/
LOCATION:Greenhead Park\, Trinity Street\, Huddersfield\, HD1 4DT\, United Kingdom
CATEGORIES:Community Submitted,Demonstration/Workshop
ATTACH;FMTTYPE=image/jpeg:https://woveninkirklees.co.uk/wp-content/uploads/2025/05/Marshian-Arts-Craft-Group.jpg
GEO:53.6493241;-1.7939472
X-APPLE-STRUCTURED-LOCATION;VALUE=URI;X-ADDRESS=Greenhead Park Trinity Street Huddersfield HD1 4DT United Kingdom;X-APPLE-RADIUS=500;X-TITLE=Trinity Street:geo:-1.7939472,53.6493241
END:VEVENT
BEGIN:VEVENT
DTSTART;TZID=Europe/London:20250602T163000
DTEND;TZID=Europe/London:20250602T183000
DTSTAMP:20260423T031806
CREATED:20250401T094245Z
LAST-MODIFIED:20250408T153706Z
UID:8123-1748881800-1748889000@woveninkirklees.co.uk
SUMMARY:WOVEN Community Sessions by Darn It!
DESCRIPTION:Join our community session open to all to come and get creative with Kim Searle as part of this year’s festival. \nThe theme will be around floral/leafy yarn bombs inspired by Kirklees’ parks and natural open spaces. \nAll creations will then be displayed in Greenhead Park. \nLOCATION: Sessions take place at Greenhead Park Community Room by the café\, opposite the tennis courts. \nFree to attend\, no booking required\, just turn up. \nThis event is part of the WOVEN community programme.
URL:https://woveninkirklees.co.uk/event/woven-community-sessions-by-darn-it-2/
LOCATION:Greenhead Park\, Trinity Street\, Huddersfield\, HD1 4DT\, United Kingdom
CATEGORIES:Community Submitted,Demonstration/Workshop
ATTACH;FMTTYPE=image/jpeg:https://woveninkirklees.co.uk/wp-content/uploads/2025/03/Kirklees-Council_Darn-it_Kim-Searle.jpg
GEO:53.6493241;-1.7939472
X-APPLE-STRUCTURED-LOCATION;VALUE=URI;X-ADDRESS=DESCRIPTION:Join our community session open to all to come and get creative with Kim Searle as part of this year’s festival. \nThe theme will be around floral/leafy yarn bombs inspired by Kirklees’ parks and natural open spaces. \nAll creations will then be displayed in Greenhead Park. \n Sessions take place at Greenhead Park Community Room by the café opposite the tennis courts. \nFree to attend no booking required just turn up. \nThis event is part of the WOVEN community programme.;X-APPLE-RADIUS=500;X-TITLE=Trinity Street:geo:-1.7939472,53.6493241
END:VEVENT
BEGIN:VEVENT
DTSTART;TZID=Europe/London:20250602T133000
DTEND;TZID=Europe/London:20250602T153000
DTSTAMP:20260423T031806
CREATED:20250401T081247Z
LAST-MODIFIED:20250408T153701Z
UID:7767-1748871000-1748878200@woveninkirklees.co.uk
SUMMARY:WOVEN Community Sessions by Darn It!
DESCRIPTION:Join our community session open to all to come and get creative with Kim Searle as part of this year’s festival. \nThe theme will be around floral/leafy yarn bombs inspired by Kirklees’ parks and natural open spaces. \nAll creations will then be displayed in Greenhead Park. \nLOCATION: Sessions take place at Greenhead Park Community Room by the café\, opposite the tennis courts. \nFree to attend\, no booking required\, just turn up. \nThis event is part of the WOVEN community programme.
URL:https://woveninkirklees.co.uk/event/woven-community-sessions-by-darn-it/
LOCATION:Greenhead Park\, Trinity Street\, Huddersfield\, HD1 4DT\, United Kingdom
CATEGORIES:Community Submitted,Demonstration/Workshop
ATTACH;FMTTYPE=image/jpeg:https://woveninkirklees.co.uk/wp-content/uploads/2025/03/Kirklees-Council_Darn-it_Kim-Searle.jpg
GEO:53.6493241;-1.7939472
X-APPLE-STRUCTURED-LOCATION;VALUE=URI;X-ADDRESS=DESCRIPTION:Join our community session open to all to come and get creative with Kim Searle as part of this year’s festival. \nThe theme will be around floral/leafy yarn bombs inspired by Kirklees’ parks and natural open spaces. \nAll creations will then be displayed in Greenhead Park. \n Sessions take place at Greenhead Park Community Room by the café opposite the tennis courts. \nFree to attend no booking required just turn up. \nThis event is part of the WOVEN community programme.;X-APPLE-RADIUS=500;X-TITLE=Trinity Street:geo:-1.7939472,53.6493241
END:VEVENT
END:VCALENDAR