BEGIN:VCALENDAR
VERSION:2.0
PRODID:-//WOVEN - ECPv6.0.12//NONSGML v1.0//EN
CALSCALE:GREGORIAN
METHOD:PUBLISH
X-ORIGINAL-URL:https://woveninkirklees.co.uk
X-WR-CALDESC:Events for WOVEN
REFRESH-INTERVAL;VALUE=DURATION:PT1H
X-Robots-Tag:noindex
X-PUBLISHED-TTL:PT1H
BEGIN:VTIMEZONE
TZID:Europe/London
BEGIN:DAYLIGHT
TZOFFSETFROM:+0000
TZOFFSETTO:+0100
TZNAME:BST
DTSTART:20240331T010000
END:DAYLIGHT
BEGIN:STANDARD
TZOFFSETFROM:+0100
TZOFFSETTO:+0000
TZNAME:GMT
DTSTART:20241027T010000
END:STANDARD
BEGIN:DAYLIGHT
TZOFFSETFROM:+0000
TZOFFSETTO:+0100
TZNAME:BST
DTSTART:20250330T010000
END:DAYLIGHT
BEGIN:STANDARD
TZOFFSETFROM:+0100
TZOFFSETTO:+0000
TZNAME:GMT
DTSTART:20251026T010000
END:STANDARD
END:VTIMEZONE
BEGIN:VEVENT
DTSTART;TZID=Europe/London:20250619T090000
DTEND;TZID=Europe/London:20250621T170000
DTSTAMP:20260422T140253
CREATED:20250401T085523Z
LAST-MODIFIED:20250408T152820Z
UID:7343-1750323600-1750525200@woveninkirklees.co.uk
SUMMARY:Not Redundant Textiles Redesign 2025 Exhibition
DESCRIPTION:Visit artist Christopher English’s recycled textiles exhibition full of updated fabrics sourced from charity shops\, car boot sales and open markets\, giving these amazing fabrics a new lease of life.  \nDrop by and see the new fabric designs\, the artist’s creative process and get some tips on how you can update your own fabric stash. \n9am – 5pm each day or by appointment. \nThis event is part of the WOVEN community programme. \nFree to attend. No booking required.
URL:https://woveninkirklees.co.uk/event/not-redundant-textiles-redesign-2025-exhibition/
LOCATION:Calder Art Studio\, 2nd floor\, Byram Arcade\, Huddersfield\, HD1 1ND\, United Kingdom
CATEGORIES:Community Submitted,Demonstration/Workshop,Exhibition,Family Friendly,Visual Art
ATTACH;FMTTYPE=image/jpeg:https://woveninkirklees.co.uk/wp-content/uploads/2025/02/Christopher-English-scaled.jpg
GEO:53.647183;-1.783302
X-APPLE-STRUCTURED-LOCATION;VALUE=URI;X-ADDRESS=Calder Art Studio 2nd floor Byram Arcade Huddersfield HD1 1ND United Kingdom;X-APPLE-RADIUS=500;X-TITLE=2nd floor\, Byram Arcade:geo:-1.783302,53.647183
END:VEVENT
BEGIN:VEVENT
DTSTART;TZID=Europe/London:20240524T170000
DTEND;TZID=Europe/London:20240524T200000
DTSTAMP:20260422T140253
CREATED:20240307T164955Z
LAST-MODIFIED:20240307T164955Z
UID:6063-1716570000-1716580800@woveninkirklees.co.uk
SUMMARY:Whole : Textiel exhibition
DESCRIPTION:This is Anne’s first solo exhibition showcasing the work she has been stitching in her studio\, Shed 76 1/2. \nWhole : Hole is about how we mend and repair the holes in everyday life that in turn make us Whole. \nAnne is passionate about sharing her love of stitch and you are invited to come along and stitch with her during the exhibition\, either on your own project or the collaborative piece Anne will be working on during the exhibition. \nThe exhibition opens on Friday 24 May 5-8pm\, and then is open from 28th – 31st May and on the 14th and 28th June. \nBOOK YOUR PLACE – the exhibition is free to visit\, but donations to the MS society would be appreciated.
URL:https://woveninkirklees.co.uk/event/whole-textiel-exhibition/2024-05-24/
LOCATION:Calder Art Studio\, 2nd floor\, Byram Arcade\, Huddersfield\, HD1 1ND\, United Kingdom
CATEGORIES:Exhibition,Sewing,Visual Art
ATTACH;FMTTYPE=image/jpeg:https://woveninkirklees.co.uk/wp-content/uploads/2024/03/20240203_080236-scaled.jpg
GEO:53.647183;-1.783302
X-APPLE-STRUCTURED-LOCATION;VALUE=URI;X-ADDRESS=Calder Art Studio 2nd floor Byram Arcade Huddersfield HD1 1ND United Kingdom;X-APPLE-RADIUS=500;X-TITLE=2nd floor\, Byram Arcade:geo:-1.783302,53.647183
END:VEVENT
BEGIN:VEVENT
DTSTART;TZID=Europe/London:20240528T100000
DTEND;TZID=Europe/London:20240528T150000
DTSTAMP:20260422T140253
CREATED:20240307T164955Z
LAST-MODIFIED:20240307T164955Z
UID:6067-1716890400-1716908400@woveninkirklees.co.uk
SUMMARY:Whole : Textiel exhibition
DESCRIPTION:This is Anne’s first solo exhibition showcasing the work she has been stitching in her studio\, Shed 76 1/2. \nWhole : Hole is about how we mend and repair the holes in everyday life that in turn make us Whole. \nAnne is passionate about sharing her love of stitch and you are invited to come along and stitch with her during the exhibition\, either on your own project or the collaborative piece Anne will be working on during the exhibition. \nThe exhibition opens on Friday 24 May 5-8pm\, and then is open from 28th – 31st May and on the 14th and 28th June. \nBOOK YOUR PLACE – the exhibition is free to visit\, but donations to the MS society would be appreciated.
URL:https://woveninkirklees.co.uk/event/whole-textiel-exhibition/2024-05-28/
LOCATION:Calder Art Studio\, 2nd floor\, Byram Arcade\, Huddersfield\, HD1 1ND\, United Kingdom
CATEGORIES:Exhibition,Sewing,Visual Art
ATTACH;FMTTYPE=image/jpeg:https://woveninkirklees.co.uk/wp-content/uploads/2024/03/20240203_080236-scaled.jpg
GEO:53.647183;-1.783302
X-APPLE-STRUCTURED-LOCATION;VALUE=URI;X-ADDRESS=Calder Art Studio 2nd floor Byram Arcade Huddersfield HD1 1ND United Kingdom;X-APPLE-RADIUS=500;X-TITLE=2nd floor\, Byram Arcade:geo:-1.783302,53.647183
END:VEVENT
BEGIN:VEVENT
DTSTART;TZID=Europe/London:20240529T100000
DTEND;TZID=Europe/London:20240529T150000
DTSTAMP:20260422T140253
CREATED:20240307T164955Z
LAST-MODIFIED:20240307T164955Z
UID:6068-1716976800-1716994800@woveninkirklees.co.uk
SUMMARY:Whole : Textiel exhibition
DESCRIPTION:This is Anne’s first solo exhibition showcasing the work she has been stitching in her studio\, Shed 76 1/2. \nWhole : Hole is about how we mend and repair the holes in everyday life that in turn make us Whole. \nAnne is passionate about sharing her love of stitch and you are invited to come along and stitch with her during the exhibition\, either on your own project or the collaborative piece Anne will be working on during the exhibition. \nThe exhibition opens on Friday 24 May 5-8pm\, and then is open from 28th – 31st May and on the 14th and 28th June. \nBOOK YOUR PLACE – the exhibition is free to visit\, but donations to the MS society would be appreciated.
URL:https://woveninkirklees.co.uk/event/whole-textiel-exhibition/2024-05-29/
LOCATION:Calder Art Studio\, 2nd floor\, Byram Arcade\, Huddersfield\, HD1 1ND\, United Kingdom
CATEGORIES:Exhibition,Sewing,Visual Art
ATTACH;FMTTYPE=image/jpeg:https://woveninkirklees.co.uk/wp-content/uploads/2024/03/20240203_080236-scaled.jpg
GEO:53.647183;-1.783302
X-APPLE-STRUCTURED-LOCATION;VALUE=URI;X-ADDRESS=Calder Art Studio 2nd floor Byram Arcade Huddersfield HD1 1ND United Kingdom;X-APPLE-RADIUS=500;X-TITLE=2nd floor\, Byram Arcade:geo:-1.783302,53.647183
END:VEVENT
BEGIN:VEVENT
DTSTART;TZID=Europe/London:20240530T100000
DTEND;TZID=Europe/London:20240530T150000
DTSTAMP:20260422T140253
CREATED:20240307T164955Z
LAST-MODIFIED:20240307T164955Z
UID:6069-1717063200-1717081200@woveninkirklees.co.uk
SUMMARY:Whole : Textiel exhibition
DESCRIPTION:This is Anne’s first solo exhibition showcasing the work she has been stitching in her studio\, Shed 76 1/2. \nWhole : Hole is about how we mend and repair the holes in everyday life that in turn make us Whole. \nAnne is passionate about sharing her love of stitch and you are invited to come along and stitch with her during the exhibition\, either on your own project or the collaborative piece Anne will be working on during the exhibition. \nThe exhibition opens on Friday 24 May 5-8pm\, and then is open from 28th – 31st May and on the 14th and 28th June. \nBOOK YOUR PLACE – the exhibition is free to visit\, but donations to the MS society would be appreciated.
URL:https://woveninkirklees.co.uk/event/whole-textiel-exhibition/2024-05-30/
LOCATION:Calder Art Studio\, 2nd floor\, Byram Arcade\, Huddersfield\, HD1 1ND\, United Kingdom
CATEGORIES:Exhibition,Sewing,Visual Art
ATTACH;FMTTYPE=image/jpeg:https://woveninkirklees.co.uk/wp-content/uploads/2024/03/20240203_080236-scaled.jpg
GEO:53.647183;-1.783302
X-APPLE-STRUCTURED-LOCATION;VALUE=URI;X-ADDRESS=Calder Art Studio 2nd floor Byram Arcade Huddersfield HD1 1ND United Kingdom;X-APPLE-RADIUS=500;X-TITLE=2nd floor\, Byram Arcade:geo:-1.783302,53.647183
END:VEVENT
BEGIN:VEVENT
DTSTART;TZID=Europe/London:20240531T100000
DTEND;TZID=Europe/London:20240531T150000
DTSTAMP:20260422T140253
CREATED:20240307T164955Z
LAST-MODIFIED:20240307T164955Z
UID:6070-1717149600-1717167600@woveninkirklees.co.uk
SUMMARY:Whole : Textiel exhibition
DESCRIPTION:This is Anne’s first solo exhibition showcasing the work she has been stitching in her studio\, Shed 76 1/2. \nWhole : Hole is about how we mend and repair the holes in everyday life that in turn make us Whole. \nAnne is passionate about sharing her love of stitch and you are invited to come along and stitch with her during the exhibition\, either on your own project or the collaborative piece Anne will be working on during the exhibition. \nThe exhibition opens on Friday 24 May 5-8pm\, and then is open from 28th – 31st May and on the 14th and 28th June. \nBOOK YOUR PLACE – the exhibition is free to visit\, but donations to the MS society would be appreciated.
URL:https://woveninkirklees.co.uk/event/whole-textiel-exhibition/2024-05-31/
LOCATION:Calder Art Studio\, 2nd floor\, Byram Arcade\, Huddersfield\, HD1 1ND\, United Kingdom
CATEGORIES:Exhibition,Sewing,Visual Art
ATTACH;FMTTYPE=image/jpeg:https://woveninkirklees.co.uk/wp-content/uploads/2024/03/20240203_080236-scaled.jpg
GEO:53.647183;-1.783302
X-APPLE-STRUCTURED-LOCATION;VALUE=URI;X-ADDRESS=Calder Art Studio 2nd floor Byram Arcade Huddersfield HD1 1ND United Kingdom;X-APPLE-RADIUS=500;X-TITLE=2nd floor\, Byram Arcade:geo:-1.783302,53.647183
END:VEVENT
BEGIN:VEVENT
DTSTART;TZID=Europe/London:20240614T100000
DTEND;TZID=Europe/London:20240614T150000
DTSTAMP:20260422T140253
CREATED:20240307T164955Z
LAST-MODIFIED:20240307T164955Z
UID:6071-1718359200-1718377200@woveninkirklees.co.uk
SUMMARY:Whole : Textiel exhibition
DESCRIPTION:This is Anne’s first solo exhibition showcasing the work she has been stitching in her studio\, Shed 76 1/2. \nWhole : Hole is about how we mend and repair the holes in everyday life that in turn make us Whole. \nAnne is passionate about sharing her love of stitch and you are invited to come along and stitch with her during the exhibition\, either on your own project or the collaborative piece Anne will be working on during the exhibition. \nThe exhibition opens on Friday 24 May 5-8pm\, and then is open from 28th – 31st May and on the 14th and 28th June. \nBOOK YOUR PLACE – the exhibition is free to visit\, but donations to the MS society would be appreciated.
URL:https://woveninkirklees.co.uk/event/whole-textiel-exhibition/2024-06-14/
LOCATION:Calder Art Studio\, 2nd floor\, Byram Arcade\, Huddersfield\, HD1 1ND\, United Kingdom
CATEGORIES:Exhibition,Sewing,Visual Art
ATTACH;FMTTYPE=image/jpeg:https://woveninkirklees.co.uk/wp-content/uploads/2024/03/20240203_080236-scaled.jpg
GEO:53.647183;-1.783302
X-APPLE-STRUCTURED-LOCATION;VALUE=URI;X-ADDRESS=Calder Art Studio 2nd floor Byram Arcade Huddersfield HD1 1ND United Kingdom;X-APPLE-RADIUS=500;X-TITLE=2nd floor\, Byram Arcade:geo:-1.783302,53.647183
END:VEVENT
BEGIN:VEVENT
DTSTART;TZID=Europe/London:20240628T100000
DTEND;TZID=Europe/London:20240628T150000
DTSTAMP:20260422T140253
CREATED:20240307T164955Z
LAST-MODIFIED:20240307T164955Z
UID:6072-1719568800-1719586800@woveninkirklees.co.uk
SUMMARY:Whole : Textiel exhibition
DESCRIPTION:This is Anne’s first solo exhibition showcasing the work she has been stitching in her studio\, Shed 76 1/2. \nWhole : Hole is about how we mend and repair the holes in everyday life that in turn make us Whole. \nAnne is passionate about sharing her love of stitch and you are invited to come along and stitch with her during the exhibition\, either on your own project or the collaborative piece Anne will be working on during the exhibition. \nThe exhibition opens on Friday 24 May 5-8pm\, and then is open from 28th – 31st May and on the 14th and 28th June. \nBOOK YOUR PLACE – the exhibition is free to visit\, but donations to the MS society would be appreciated.
URL:https://woveninkirklees.co.uk/event/whole-textiel-exhibition/2024-06-28/
LOCATION:Calder Art Studio\, 2nd floor\, Byram Arcade\, Huddersfield\, HD1 1ND\, United Kingdom
CATEGORIES:Exhibition,Sewing,Visual Art
ATTACH;FMTTYPE=image/jpeg:https://woveninkirklees.co.uk/wp-content/uploads/2024/03/20240203_080236-scaled.jpg
GEO:53.647183;-1.783302
X-APPLE-STRUCTURED-LOCATION;VALUE=URI;X-ADDRESS=Calder Art Studio 2nd floor Byram Arcade Huddersfield HD1 1ND United Kingdom;X-APPLE-RADIUS=500;X-TITLE=2nd floor\, Byram Arcade:geo:-1.783302,53.647183
END:VEVENT
END:VCALENDAR