BEGIN:VCALENDAR
VERSION:2.0
PRODID:-//WOVEN - ECPv6.0.12//NONSGML v1.0//EN
CALSCALE:GREGORIAN
METHOD:PUBLISH
X-ORIGINAL-URL:https://woveninkirklees.co.uk
X-WR-CALDESC:Events for WOVEN
REFRESH-INTERVAL;VALUE=DURATION:PT1H
X-Robots-Tag:noindex
X-PUBLISHED-TTL:PT1H
BEGIN:VTIMEZONE
TZID:Europe/London
BEGIN:DAYLIGHT
TZOFFSETFROM:+0000
TZOFFSETTO:+0100
TZNAME:BST
DTSTART:20230326T010000
END:DAYLIGHT
BEGIN:STANDARD
TZOFFSETFROM:+0100
TZOFFSETTO:+0000
TZNAME:GMT
DTSTART:20231029T010000
END:STANDARD
END:VTIMEZONE
BEGIN:VEVENT
DTSTART;TZID=Europe/London:20230330T100000
DTEND;TZID=Europe/London:20230330T233000
DTSTAMP:20260421T025608
CREATED:20230316T111558Z
LAST-MODIFIED:20230316T111558Z
UID:3798-1680170400-1680219000@woveninkirklees.co.uk
SUMMARY:Gardening for Health and Wellbeing - Thrive
DESCRIPTION:Join us online for a Growing Colour Together talk from gardening charity Thrive. \nThis online session by Thrive will explore the way in which gardens and gardening can be accessed and used for health and wellbeing\, including the evidence behind this. Across the presentation we will think about how in everyday life\, through our communities\, and through health and social care interventions\, gardens can be supportive of societal health and each life journey. \nWe will include practical ideas so that everyone can be more connected to nature through gardens for their own health benefit. The session will include how horticultural therapy links with the use of natural dye plants and some of the aims of our Growing Colour Together project. \nBook Your Place \nGrowing Colour Together is more than a project\, it’s a MOVEMENT! And our ambition is to create a district-wide\, natural-dye\, colour garden! We want to give everyone the opportunity to ‘have a grow\,’ use what’s grown to make natural dyes\, and learn about the environmental implications of chemical dyes and what we buy. It’s an evolving project and we want people to join in with the areas that interest you to grow\, make\, create and debate\, so this event is part of a series of talks\, events and workshops to help you get started with your colour garden.
URL:https://woveninkirklees.co.uk/event/gardening-for-health-and-wellbeing-thrive/
CATEGORIES:Demonstration/Workshop,Talk
ATTACH;FMTTYPE=image/jpeg:https://woveninkirklees.co.uk/wp-content/uploads/2023/03/thrive_image.jpg
END:VEVENT
BEGIN:VEVENT
DTSTART;TZID=Europe/London:20230325T120000
DTEND;TZID=Europe/London:20230325T143000
DTSTAMP:20260421T025608
CREATED:20230316T110742Z
LAST-MODIFIED:20230316T131012Z
UID:3796-1679745600-1679754600@woveninkirklees.co.uk
SUMMARY:Stencil Printing Using Indigo
DESCRIPTION:Learn how to create paper stencils that can be used with indigo pigment paste to create prints on fabric and paper. \nThe workshop will be run by Growing Colour Together artist Jane Howroyd. \nBOOK YOUR PLACE
URL:https://woveninkirklees.co.uk/event/stencil-printing-using-indigo/
LOCATION:Bagshaw Museum\, Wilton Park\, Batley\, West Yorkshire\, WF17 0AS\, United Kingdom
CATEGORIES:Demonstration/Workshop
ATTACH;FMTTYPE=image/jpeg:https://woveninkirklees.co.uk/wp-content/uploads/2023/03/stencil_prinintg.jpeg.jpg
GEO:53.7262864;-1.6480844
X-APPLE-STRUCTURED-LOCATION;VALUE=URI;X-ADDRESS=Bagshaw Museum Wilton Park Batley West Yorkshire WF17 0AS United Kingdom;X-APPLE-RADIUS=500;X-TITLE=Wilton Park:geo:-1.6480844,53.7262864
END:VEVENT
BEGIN:VEVENT
DTSTART;TZID=Europe/London:20230325T120000
DTEND;TZID=Europe/London:20230325T140000
DTSTAMP:20260421T025608
CREATED:20230316T110456Z
LAST-MODIFIED:20230323T142535Z
UID:3793-1679745600-1679752800@woveninkirklees.co.uk
SUMMARY:Dye Plant Seed Swap (Kirkburton)
DESCRIPTION:Are you planning a natural dye garden in Kirkburton as part of the Growing Colour Together project? Come along to this event bring some seeds and swap them with others. Talk to others planning their colour gardens across the Kirkburton area and share helpful growing tips\, tricks and ideas. Pick up some growing resources from WOVEN and share your plans and ideas for a natural dye garden. \nIf you are planning a dye garden and you would like it to be included on the WOVEN 2023 festival map\, please complete this form. \nAll Hallows Church in Kirkburton will be sharing their plans for their dye garden and giving a tour of the grounds and shared community Greenhouse\, its a great chance to find out what growing space they have on offer and how you can get involved. \nThis event is suitable for all ages\, family friendly come along! Refreshments will be available on the day. \nBook Your Place
URL:https://woveninkirklees.co.uk/event/dye-plant-seed-swap-kirkburton/
LOCATION:All Hallows Church\, Huddersfield Road\, Kirkburton\, Huddersfield\, HD8 0SJ\, United Kingdom
CATEGORIES:Family Friendly,Growing Colour Together,Open Day/Guided Tour
ATTACH;FMTTYPE=image/jpeg:https://woveninkirklees.co.uk/wp-content/uploads/2022/10/space_film_3.jpg
GEO:53.6081014;-1.7016915
X-APPLE-STRUCTURED-LOCATION;VALUE=URI;X-ADDRESS=All Hallows Church Huddersfield Road Kirkburton Huddersfield HD8 0SJ United Kingdom;X-APPLE-RADIUS=500;X-TITLE=Huddersfield Road:geo:-1.7016915,53.6081014
END:VEVENT
BEGIN:VEVENT
DTSTART;TZID=Europe/London:20230322T100000
DTEND;TZID=Europe/London:20230322T120000
DTSTAMP:20260421T025608
CREATED:20230316T110018Z
LAST-MODIFIED:20230316T110018Z
UID:3790-1679479200-1679486400@woveninkirklees.co.uk
SUMMARY:Introduction and Playing with Natural Dyes (Kirkburton)
DESCRIPTION:Join the Growing Colour Together Kirkburton artists Nicola and Seiko for and introduction to working with natural dyes. \nThis exploratory session will introduce you to a number of both core and fun approaches to dying fabric with natural materials. This will include piece dyeing [solid colours]\, bundle dyeing\, the effects of changing the Ph levels and exploring how different fabrics produce a range of results. \nWe will consider how we may take ideas beyond the dye pot into our homes and wardrobes and the ethical and sustainable benefits of natural dyeing. Furthermore\, while we will experiment with a range of dyestuffs\, we will also consider potential development of dyes grown in the local area or our own gardens. \nNatural dyeing can be very straight forward\, and it is easy to achieve quick\, effective and creative results. This session is intended to show how this is possible without deep diving into wider\, but more complex potential directions of mordanting etc. No experience is necessary. \nPlease note\, this session will not go into detail about scouring and mordants – if you are interested\, this information will be included in the Beyond the Basics of Natural Dyeing session\, feel free to sign up for both or just the one. \nBook Your Place
URL:https://woveninkirklees.co.uk/event/introduction-and-playing-with-natural-dyes-kirkburton/
LOCATION:Highburton Village Hall\, Northfield Lane\, Kirkburton\, Huddersfield\, HD8 0QT\, United Kingdom
CATEGORIES:Demonstration/Workshop,Growing Colour Together
ATTACH;FMTTYPE=image/jpeg:https://woveninkirklees.co.uk/wp-content/uploads/2023/03/nicola_2.jpg
GEO:53.6200292;-1.7099873
X-APPLE-STRUCTURED-LOCATION;VALUE=URI;X-ADDRESS=Highburton Village Hall Northfield Lane Kirkburton Huddersfield HD8 0QT United Kingdom;X-APPLE-RADIUS=500;X-TITLE=Northfield Lane:geo:-1.7099873,53.6200292
END:VEVENT
END:VCALENDAR