BEGIN:VCALENDAR
VERSION:2.0
PRODID:-//WOVEN - ECPv6.0.12//NONSGML v1.0//EN
CALSCALE:GREGORIAN
METHOD:PUBLISH
X-WR-CALNAME:WOVEN
X-ORIGINAL-URL:https://woveninkirklees.co.uk
X-WR-CALDESC:Events for WOVEN
REFRESH-INTERVAL;VALUE=DURATION:PT1H
X-Robots-Tag:noindex
X-PUBLISHED-TTL:PT1H
BEGIN:VTIMEZONE
TZID:Europe/London
BEGIN:DAYLIGHT
TZOFFSETFROM:+0000
TZOFFSETTO:+0100
TZNAME:BST
DTSTART:20230326T010000
END:DAYLIGHT
BEGIN:STANDARD
TZOFFSETFROM:+0100
TZOFFSETTO:+0000
TZNAME:GMT
DTSTART:20231029T010000
END:STANDARD
BEGIN:DAYLIGHT
TZOFFSETFROM:+0000
TZOFFSETTO:+0100
TZNAME:BST
DTSTART:20240331T010000
END:DAYLIGHT
BEGIN:STANDARD
TZOFFSETFROM:+0100
TZOFFSETTO:+0000
TZNAME:GMT
DTSTART:20241027T010000
END:STANDARD
BEGIN:DAYLIGHT
TZOFFSETFROM:+0000
TZOFFSETTO:+0100
TZNAME:BST
DTSTART:20250330T010000
END:DAYLIGHT
BEGIN:STANDARD
TZOFFSETFROM:+0100
TZOFFSETTO:+0000
TZNAME:GMT
DTSTART:20251026T010000
END:STANDARD
END:VTIMEZONE
BEGIN:VEVENT
DTSTART;TZID=Europe/London:20250628T140000
DTEND;TZID=Europe/London:20250628T160000
DTSTAMP:20260419T142333
CREATED:20250401T084033Z
LAST-MODIFIED:20250401T084033Z
UID:8619-1751119200-1751126400@woveninkirklees.co.uk
SUMMARY:Stitch Saturday
DESCRIPTION:To celebrate the Red Dress being at Oakwell Hall\, we are running Stitch Saturdays – family fun workshops with a focus on textile repair and mending skills for a more sustainable future – Every Child Challenge focuses on helping to teach young people essential textile skills\, and basic sewing skills that they can use and enjoy. \nFree to attend\, no booking required just drop in. \nAccessibility information for Oakwell Hall can be found here
URL:https://woveninkirklees.co.uk/event/stitch-saturday/2025-06-28/
LOCATION:Oakwell Hall\, Nutter Lane\, Birstall\, Batley\, WF17 9LG\, United Kingdom
CATEGORIES:Demonstration/Workshop,Exhibition,Family Friendly,Sewing,Walk,WOVEN Commissioned
ATTACH;FMTTYPE=image/jpeg:https://woveninkirklees.co.uk/wp-content/uploads/2024/03/Woven-M2M-Holmfirth-2-scaled.jpg
GEO:53.73837;-1.6709373
X-APPLE-STRUCTURED-LOCATION;VALUE=URI;X-ADDRESS=Oakwell Hall Nutter Lane Birstall Batley WF17 9LG United Kingdom;X-APPLE-RADIUS=500;X-TITLE=Nutter Lane:geo:-1.6709373,53.73837
END:VEVENT
BEGIN:VEVENT
DTSTART;TZID=Europe/London:20250621T120000
DTEND;TZID=Europe/London:20250621T160000
DTSTAMP:20260419T142333
CREATED:20250401T084033Z
LAST-MODIFIED:20250626T075949Z
UID:8104-1750507200-1750521600@woveninkirklees.co.uk
SUMMARY:Stitch Saturday
DESCRIPTION:To celebrate the Red Dress being at Oakwell Hall\, we are running Stitch Saturdays – family fun workshops with a focus on textile repair and mending skills for a more sustainable future – Every Child Challenge focuses on helping to teach young people essential textile skills\, and basic sewing skills that they can use and enjoy. \nFree to attend\, no booking required just drop in. \nAccessibility information for Oakwell Hall can be found here
URL:https://woveninkirklees.co.uk/event/stitch-saturday/2025-06-21/
LOCATION:Oakwell Hall\, Nutter Lane\, Birstall\, Batley\, WF17 9LG\, United Kingdom
CATEGORIES:Demonstration/Workshop,Exhibition,Family Friendly,Sewing,Walk,WOVEN Commissioned
ATTACH;FMTTYPE=image/jpeg:https://woveninkirklees.co.uk/wp-content/uploads/2024/03/Woven-M2M-Holmfirth-2-scaled.jpg
GEO:53.73837;-1.6709373
X-APPLE-STRUCTURED-LOCATION;VALUE=URI;X-ADDRESS=Oakwell Hall Nutter Lane Birstall Batley WF17 9LG United Kingdom;X-APPLE-RADIUS=500;X-TITLE=Nutter Lane:geo:-1.6709373,53.73837
END:VEVENT
BEGIN:VEVENT
DTSTART;TZID=Europe/London:20250614T120000
DTEND;TZID=Europe/London:20250614T160000
DTSTAMP:20260419T142333
CREATED:20250401T084033Z
LAST-MODIFIED:20250626T075948Z
UID:8103-1749902400-1749916800@woveninkirklees.co.uk
SUMMARY:Stitch Saturday
DESCRIPTION:To celebrate the Red Dress being at Oakwell Hall\, we are running Stitch Saturdays – family fun workshops with a focus on textile repair and mending skills for a more sustainable future – Every Child Challenge focuses on helping to teach young people essential textile skills\, and basic sewing skills that they can use and enjoy. \nFree to attend\, no booking required just drop in. \nAccessibility information for Oakwell Hall can be found here
URL:https://woveninkirklees.co.uk/event/stitch-saturday/2025-06-14/
LOCATION:Oakwell Hall\, Nutter Lane\, Birstall\, Batley\, WF17 9LG\, United Kingdom
CATEGORIES:Demonstration/Workshop,Exhibition,Family Friendly,Sewing,Walk,WOVEN Commissioned
ATTACH;FMTTYPE=image/jpeg:https://woveninkirklees.co.uk/wp-content/uploads/2024/03/Woven-M2M-Holmfirth-2-scaled.jpg
GEO:53.73837;-1.6709373
X-APPLE-STRUCTURED-LOCATION;VALUE=URI;X-ADDRESS=Oakwell Hall Nutter Lane Birstall Batley WF17 9LG United Kingdom;X-APPLE-RADIUS=500;X-TITLE=Nutter Lane:geo:-1.6709373,53.73837
END:VEVENT
BEGIN:VEVENT
DTSTART;TZID=Europe/London:20250607T120000
DTEND;TZID=Europe/London:20250607T160000
DTSTAMP:20260419T142333
CREATED:20250401T084033Z
LAST-MODIFIED:20250626T075948Z
UID:7982-1749297600-1749312000@woveninkirklees.co.uk
SUMMARY:Stitch Saturday
DESCRIPTION:To celebrate the Red Dress being at Oakwell Hall\, we are running Stitch Saturdays – family fun workshops with a focus on textile repair and mending skills for a more sustainable future – Every Child Challenge focuses on helping to teach young people essential textile skills\, and basic sewing skills that they can use and enjoy. \nFree to attend\, no booking required just drop in. \nAccessibility information for Oakwell Hall can be found here
URL:https://woveninkirklees.co.uk/event/stitch-saturday/2025-06-07/
LOCATION:Oakwell Hall\, Nutter Lane\, Birstall\, Batley\, WF17 9LG\, United Kingdom
CATEGORIES:Demonstration/Workshop,Exhibition,Family Friendly,Sewing,Walk,WOVEN Commissioned
ATTACH;FMTTYPE=image/jpeg:https://woveninkirklees.co.uk/wp-content/uploads/2024/03/Woven-M2M-Holmfirth-2-scaled.jpg
GEO:53.73837;-1.6709373
X-APPLE-STRUCTURED-LOCATION;VALUE=URI;X-ADDRESS=Oakwell Hall Nutter Lane Birstall Batley WF17 9LG United Kingdom;X-APPLE-RADIUS=500;X-TITLE=Nutter Lane:geo:-1.6709373,53.73837
END:VEVENT
BEGIN:VEVENT
DTSTART;VALUE=DATE:20250529
DTEND;VALUE=DATE:20250620
DTSTAMP:20260419T142333
CREATED:20250527T093942Z
LAST-MODIFIED:20250604T085102Z
UID:8509-1748476800-1750377599@woveninkirklees.co.uk
SUMMARY:The Cultures of Climate Arts Trail
DESCRIPTION:Journey across The Cultures of Climate Art trail\, to Dewsbury and Huddersfield – to find Recycling En Masse – its heritage\, activism\, and future. \n‘Recycling En Masse’ is a collection of printed reproductions of paintings and photographs depicting citizens of Dewsbury\, with views of Textile Mills. \nThese images are part of the site-specific ‘Cultures of Climate Art Trail’\, between Huddersfield and Dewsbury\, exploring the role of art as an asset for social and environmental sustainability. \nVisitors are invited to consider the current climate crisis\, against the backdrop of the 19c and 20c production of Shoddy and Mungo – the earliest and largest example of recycled textile fabric. Instead of celebrating the industrial ingenuity\, or scale of recycling\, the artworks from the Kirklees Collections help shine a light on the social contexts of the industry. \nThe textile installation ‘Soar Away’ (2022) by New Zealand-based artist Deborah Rundle tells the story the activism of Ann Ellis\, and the Hillstone Fibre Arts exhibition using yarn from Huddersfield company Iinouiio Recycled Textiles are also part of the trail. \nAn online discussion between Dr Janine Sykes and artist Deborah Rundle is to take place during the Arts Trail /WOVEN Festival – stay tuned for more information. \nTHE TRAIL LOCATIONS: \n-Recycle En Masse Toast House Café\, University of Huddersfield Queen St South Annexe\, Huddersfield HD1 3DR 10am-3pm Mon-Thurs\, 10am-2:30pm Fri. \n-Soar Away Deborah Rundle\, Dewsbury Town Hall\, Wakefield Old Rd\, Dewsbury WF12 8DG\, 9am–5pm Mon-Fri \n–Hillstone Fibre Arts Exhibition the Arcade Pop-Up\, 25 Princess of Wales Precinct\, Dewsbury WF13 1NH 10am-2pm Wed–Fri \n 
URL:https://woveninkirklees.co.uk/event/the-cultures-of-climate-arts-trail/
CATEGORIES:Community Submitted,Exhibition,Talk,Walk
ATTACH;FMTTYPE=image/jpeg:https://woveninkirklees.co.uk/wp-content/uploads/2025/05/Culturesof-Climate-art-trail.jpg
END:VEVENT
BEGIN:VEVENT
DTSTART;TZID=Europe/London:20230624T100000
DTEND;TZID=Europe/London:20230624T120000
DTSTAMP:20260419T142333
CREATED:20230411T065145Z
LAST-MODIFIED:20230416T200940Z
UID:4247-1687600800-1687608000@woveninkirklees.co.uk
SUMMARY:Foraging Walk for Natural Dyes
DESCRIPTION:Kayleigh Davis is a natural dye textile artist and is passionate about responsible foraging practices and sharing insight into which plants can be foraged locally for natural dyes\, making this accessible to those wishing to explore natural dyes in their local area. \nWe will meet at the grassy area with a gate next to St Patrick’s Catholic Primary Academy on George Avenue. Good walking shoes are recommended as we may wander off the beaten track. \nAs part of this guided walk\, you can expect an educational journey\, stopping along the way to learn\, share and forage. \nThe walk is expected to take roughly 45 minutes in total. There will be a short demonstration at the end of the session and the walk itself will be a circular so that we will end up where we started. \nBOOK YOUR PLACE
URL:https://woveninkirklees.co.uk/event/foraging-walk-for-natural-dyes/
CATEGORIES:Family Friendly,Growing Colour Together,Talk,Walk,WOVEN Commissioned
ATTACH;FMTTYPE=image/jpeg:https://woveninkirklees.co.uk/wp-content/uploads/2023/04/foraging.jpg
END:VEVENT
END:VCALENDAR