BEGIN:VCALENDAR
VERSION:2.0
PRODID:-//WOVEN - ECPv6.0.12//NONSGML v1.0//EN
CALSCALE:GREGORIAN
METHOD:PUBLISH
X-ORIGINAL-URL:https://woveninkirklees.co.uk
X-WR-CALDESC:Events for WOVEN
REFRESH-INTERVAL;VALUE=DURATION:PT1H
X-Robots-Tag:noindex
X-PUBLISHED-TTL:PT1H
BEGIN:VTIMEZONE
TZID:Europe/London
BEGIN:DAYLIGHT
TZOFFSETFROM:+0000
TZOFFSETTO:+0100
TZNAME:BST
DTSTART:20260329T010000
END:DAYLIGHT
BEGIN:STANDARD
TZOFFSETFROM:+0100
TZOFFSETTO:+0000
TZNAME:GMT
DTSTART:20261025T010000
END:STANDARD
END:VTIMEZONE
BEGIN:VEVENT
DTSTART;TZID=Europe/London:20260425T110000
DTEND;TZID=Europe/London:20260425T150000
DTSTAMP:20260422T071513
CREATED:20260402T114112Z
LAST-MODIFIED:20260402T114112Z
UID:9696-1777114800-1777129200@woveninkirklees.co.uk
SUMMARY:Clothes Swap & Makers Market
DESCRIPTION:Join Dewsbury Arcade and WOVEN for April’s Clothes Swap and Makers Market. \nBring up to 10 items of pre-loved clothing to swap on the day\, a great way to update your style while being sustainable. \nPlus there’s the local makers\, artists and crafts people\, selling their wonderful and unique wares. \nYou never know what one-off goodies you might find! \nEveryone welcome! \n 
URL:https://woveninkirklees.co.uk/event/clothes-swap-makers-market-april/
LOCATION:The Arcade Pop Up Space\, 25 Princess of Wales Mall\, Dewsbury\, WF13 1NH\, United Kingdom
CATEGORIES:Clothes Swap,Demonstration/Workshop,Family Friendly,Market
ATTACH;FMTTYPE=image/jpeg:https://woveninkirklees.co.uk/wp-content/uploads/2025/05/P1053937-scaled.jpg
GEO:53.6903659;-1.6290462
X-APPLE-STRUCTURED-LOCATION;VALUE=URI;X-ADDRESS=The Arcade Pop Up Space 25 Princess of Wales Mall Dewsbury WF13 1NH United Kingdom;X-APPLE-RADIUS=500;X-TITLE=25 Princess of Wales Mall:geo:-1.6290462,53.6903659
END:VEVENT
END:VCALENDAR