BEGIN:VCALENDAR
VERSION:2.0
PRODID:-//WOVEN - ECPv6.0.12//NONSGML v1.0//EN
CALSCALE:GREGORIAN
METHOD:PUBLISH
X-ORIGINAL-URL:https://woveninkirklees.co.uk
X-WR-CALDESC:Events for WOVEN
REFRESH-INTERVAL;VALUE=DURATION:PT1H
X-Robots-Tag:noindex
X-PUBLISHED-TTL:PT1H
BEGIN:VTIMEZONE
TZID:Europe/London
BEGIN:DAYLIGHT
TZOFFSETFROM:+0000
TZOFFSETTO:+0100
TZNAME:BST
DTSTART:20230326T010000
END:DAYLIGHT
BEGIN:STANDARD
TZOFFSETFROM:+0100
TZOFFSETTO:+0000
TZNAME:GMT
DTSTART:20231029T010000
END:STANDARD
BEGIN:DAYLIGHT
TZOFFSETFROM:+0000
TZOFFSETTO:+0100
TZNAME:BST
DTSTART:20240331T010000
END:DAYLIGHT
BEGIN:STANDARD
TZOFFSETFROM:+0100
TZOFFSETTO:+0000
TZNAME:GMT
DTSTART:20241027T010000
END:STANDARD
BEGIN:DAYLIGHT
TZOFFSETFROM:+0000
TZOFFSETTO:+0100
TZNAME:BST
DTSTART:20250330T010000
END:DAYLIGHT
BEGIN:STANDARD
TZOFFSETFROM:+0100
TZOFFSETTO:+0000
TZNAME:GMT
DTSTART:20251026T010000
END:STANDARD
BEGIN:DAYLIGHT
TZOFFSETFROM:+0000
TZOFFSETTO:+0100
TZNAME:BST
DTSTART:20260329T010000
END:DAYLIGHT
BEGIN:STANDARD
TZOFFSETFROM:+0100
TZOFFSETTO:+0000
TZNAME:GMT
DTSTART:20261025T010000
END:STANDARD
END:VTIMEZONE
BEGIN:VEVENT
DTSTART;TZID=Europe/London:20260328T110000
DTEND;TZID=Europe/London:20260328T150000
DTSTAMP:20260422T075855
CREATED:20260220T153506Z
LAST-MODIFIED:20260220T154233Z
UID:9566-1774695600-1774710000@woveninkirklees.co.uk
SUMMARY:Clothes Swap & Makers Market
DESCRIPTION:Join Dewsbury Arcade and WOVEN for March’s Clothes Swap and Makers Market. \nBring up to 10 items of pre-loved clothing to swap on the day\, a great way to update your style while being sustainable. \nPlus there’s the local makers\, artists and crafts people\, selling their wonderful and unique wares. \nYou never know what one-off goodies you might find! \nThere will also be a special patch making workshop for the Calico Dress Project. \nIt’s your chance to create your own patch and share your story by sewing embroidery stitches onto calico\, a fabric that’s easy to work with and suitable for all skill levels. The patches created will then be sewn on the finished garment. \nEveryone welcome! \n 
URL:https://woveninkirklees.co.uk/event/clothes-swap-makers-market-march2026/
LOCATION:The Arcade Pop Up Space\, 25 Princess of Wales Mall\, Dewsbury\, WF13 1NH\, United Kingdom
CATEGORIES:Clothes Swap,Demonstration/Workshop,Family Friendly,Market
ATTACH;FMTTYPE=image/jpeg:https://woveninkirklees.co.uk/wp-content/uploads/2025/05/P1053937-scaled.jpg
GEO:53.6903659;-1.6290462
X-APPLE-STRUCTURED-LOCATION;VALUE=URI;X-ADDRESS=The Arcade Pop Up Space 25 Princess of Wales Mall Dewsbury WF13 1NH United Kingdom;X-APPLE-RADIUS=500;X-TITLE=25 Princess of Wales Mall:geo:-1.6290462,53.6903659
END:VEVENT
BEGIN:VEVENT
DTSTART;TZID=Europe/London:20260228T110000
DTEND;TZID=Europe/London:20260228T150000
DTSTAMP:20260422T075855
CREATED:20260202T124313Z
LAST-MODIFIED:20260202T124313Z
UID:9465-1772276400-1772290800@woveninkirklees.co.uk
SUMMARY:Clothes Swap & Makers Market
DESCRIPTION:Join Dewsbury Arcade and WOVEN for the next Clothes Swap and Makers Market. \nAt the SWAP you will be able to bring up to 10 items of pre-loved clothing that you can then swap on the day\, getting a refresh of your wardrobe and keeping clothes out of landfill. \nAs well as the SWAP we have local makers\, artists and crafts people\, selling unique items. \nStay tuned for workshop news and more \n 
URL:https://woveninkirklees.co.uk/event/clothes-swap-makers-market-9/
LOCATION:The Arcade Pop Up Space\, 25 Princess of Wales Mall\, Dewsbury\, WF13 1NH\, United Kingdom
CATEGORIES:Clothes Swap,Demonstration/Workshop,Family Friendly,Market
ATTACH;FMTTYPE=image/jpeg:https://woveninkirklees.co.uk/wp-content/uploads/2025/05/arcade_dewsbury_25.011-scaled-e1746109295835.jpg
GEO:53.6903659;-1.6290462
X-APPLE-STRUCTURED-LOCATION;VALUE=URI;X-ADDRESS=The Arcade Pop Up Space 25 Princess of Wales Mall Dewsbury WF13 1NH United Kingdom;X-APPLE-RADIUS=500;X-TITLE=25 Princess of Wales Mall:geo:-1.6290462,53.6903659
END:VEVENT
BEGIN:VEVENT
DTSTART;TZID=Europe/London:20260131T110000
DTEND;TZID=Europe/London:20260131T150000
DTSTAMP:20260422T075855
CREATED:20251210T123127Z
LAST-MODIFIED:20260126T125359Z
UID:9311-1769857200-1769871600@woveninkirklees.co.uk
SUMMARY:Clothes Swap & Makers Market
DESCRIPTION:Join Dewsbury Arcade and WOVEN for the next Clothes Swap and Makers Market. \nAt the SWAP you will be able to bring up to 10 items of pre-loved clothing that you can then swap on the day\, getting a refresh of your wardrobe and keeping clothes out of landfill. \nAs well as the SWAP we have local makers\, artists and crafts people\, selling unique items. \nPlus a special patch making workshop for the Calico Dress Project. \nCalico is a fabric that’s easy to work with\, it’s your chance to create your own patch and share your story using embroidery stitches. The patches created will then be sewn on the finished garment. \nAll skill levels welcome! \n 
URL:https://woveninkirklees.co.uk/event/clothes-swap-makers-market-8/
LOCATION:The Arcade Pop Up Space\, 25 Princess of Wales Mall\, Dewsbury\, WF13 1NH\, United Kingdom
CATEGORIES:Clothes Swap,Demonstration/Workshop,Family Friendly,Market
ATTACH;FMTTYPE=image/jpeg:https://woveninkirklees.co.uk/wp-content/uploads/2025/05/P1053937-scaled.jpg
GEO:53.6903659;-1.6290462
X-APPLE-STRUCTURED-LOCATION;VALUE=URI;X-ADDRESS=The Arcade Pop Up Space 25 Princess of Wales Mall Dewsbury WF13 1NH United Kingdom;X-APPLE-RADIUS=500;X-TITLE=25 Princess of Wales Mall:geo:-1.6290462,53.6903659
END:VEVENT
BEGIN:VEVENT
DTSTART;TZID=Europe/London:20251129T110000
DTEND;TZID=Europe/London:20251129T150000
DTSTAMP:20260422T075855
CREATED:20251119T103947Z
LAST-MODIFIED:20251119T114944Z
UID:9007-1764414000-1764428400@woveninkirklees.co.uk
SUMMARY:Clothes Swap & Makers Market
DESCRIPTION:Join Dewsbury Arcade and WOVEN for the next Clothes Swap and Makers Market. \nAt the SWAP you will be able to bring up to 10 items of pre-loved clothing that you can then swap on the day\, getting a refresh of your wardrobe and keeping clothes out of landfill. \nAs well as the SWAP we have local makers\, artists and crafts people\, selling unique items. \nWhy not bring along a craft project you can finish off and share with other crafties over a cuppa and cake.
URL:https://woveninkirklees.co.uk/event/clothes-swap-makers-market-7/
LOCATION:The Arcade Pop Up Space\, 25 Princess of Wales Mall\, Dewsbury\, WF13 1NH\, United Kingdom
CATEGORIES:Clothes Swap,Demonstration/Workshop,Family Friendly,Market
ATTACH;FMTTYPE=image/jpeg:https://woveninkirklees.co.uk/wp-content/uploads/2025/05/P1053937-scaled.jpg
GEO:53.6903659;-1.6290462
X-APPLE-STRUCTURED-LOCATION;VALUE=URI;X-ADDRESS=The Arcade Pop Up Space 25 Princess of Wales Mall Dewsbury WF13 1NH United Kingdom;X-APPLE-RADIUS=500;X-TITLE=25 Princess of Wales Mall:geo:-1.6290462,53.6903659
END:VEVENT
BEGIN:VEVENT
DTSTART;TZID=Europe/London:20251025T110000
DTEND;TZID=Europe/London:20251025T150000
DTSTAMP:20260422T075855
CREATED:20250930T140808Z
LAST-MODIFIED:20250930T140808Z
UID:8944-1761390000-1761404400@woveninkirklees.co.uk
SUMMARY:Clothes Swap & Makers Market
DESCRIPTION:Join Dewsbury Arcade and WOVEN for the next Clothes Swap and Makers Market. \nAt the SWAP you will be able to bring up to 10 items of pre-loved clothing that you can then swap on the day\, getting a refresh of your wardrobe and keeping clothes out of landfill. \nAs well as the SWAP we have local makers\, artists and crafts people\, selling unique items. \nWhy not bring along a craft project you can finish off and share with other crafties over a cuppa and cake.
URL:https://woveninkirklees.co.uk/event/clothes-swap-makers-market-6/
LOCATION:The Arcade Pop Up Space\, 25 Princess of Wales Mall\, Dewsbury\, WF13 1NH\, United Kingdom
CATEGORIES:Clothes Swap,Demonstration/Workshop,Family Friendly,Market
ATTACH;FMTTYPE=image/jpeg:https://woveninkirklees.co.uk/wp-content/uploads/2025/05/arcade_dewsbury_25.011-scaled-e1746109295835.jpg
GEO:53.6903659;-1.6290462
X-APPLE-STRUCTURED-LOCATION;VALUE=URI;X-ADDRESS=The Arcade Pop Up Space 25 Princess of Wales Mall Dewsbury WF13 1NH United Kingdom;X-APPLE-RADIUS=500;X-TITLE=25 Princess of Wales Mall:geo:-1.6290462,53.6903659
END:VEVENT
BEGIN:VEVENT
DTSTART;TZID=Europe/London:20250927T110000
DTEND;TZID=Europe/London:20250927T150000
DTSTAMP:20260422T075855
CREATED:20250915T140709Z
LAST-MODIFIED:20250915T142026Z
UID:8934-1758970800-1758985200@woveninkirklees.co.uk
SUMMARY:Clothes Swap & Makers Market
DESCRIPTION:Join Dewsbury Arcade and WOVEN for the next Clothes Swap and Makers Market. \nAt the SWAP you will be able to bring up to 10 items of pre-loved clothing that you can then swap on the day\, getting a refresh of your wardrobe and keeping clothes out of landfill. \nAs well as the SWAP we have local makers\, artists and crafts people\, selling unique items. \nWhy not bring along a craft project you can finish off and share with other crafties over a cuppa and cake.
URL:https://woveninkirklees.co.uk/event/clothes-swap-makers-market-5/
LOCATION:The Arcade Pop Up Space\, 25 Princess of Wales Mall\, Dewsbury\, WF13 1NH\, United Kingdom
CATEGORIES:Clothes Swap,Demonstration/Workshop,Family Friendly,Market
ATTACH;FMTTYPE=image/jpeg:https://woveninkirklees.co.uk/wp-content/uploads/2025/04/mbh19-scaled.jpg
GEO:53.6903659;-1.6290462
X-APPLE-STRUCTURED-LOCATION;VALUE=URI;X-ADDRESS=The Arcade Pop Up Space 25 Princess of Wales Mall Dewsbury WF13 1NH United Kingdom;X-APPLE-RADIUS=500;X-TITLE=25 Princess of Wales Mall:geo:-1.6290462,53.6903659
END:VEVENT
BEGIN:VEVENT
DTSTART;TZID=Europe/London:20250628T120000
DTEND;TZID=Europe/London:20250628T200000
DTSTAMP:20260422T075855
CREATED:20250401T084007Z
LAST-MODIFIED:20250625T100420Z
UID:7946-1751112000-1751140800@woveninkirklees.co.uk
SUMMARY:Dewsbury WOVEN Mash Up
DESCRIPTION:Get ready for an unforgettable day of textile fun as WOVEN and The Arcade Dewsbury and the annual Arcade World Food Festival team up for a festival finale like no other! \n– Bring your pre-loved clothes for Dewsbury’s biggest-ever clothes swap \n– Show off your style and strut on a catwalk\, hosted by We Great Ladies \n– Attend crafty workshops including: \nTextile Time Machine – explore the past and future to create a fantastical time machine using textiles\, words and mark making. Bring a textile object or scrap that holds a personal memory for you and dive into a creative journey to explore collaboration\, memory and the concept of home. You don’t need to have any skills for this workshop – you can knot\, wind\, wrap or stitch. If you don’t have a textile object to bring\, we will be providing lots of fabric to choose from. All ages welcome. \nNatural Dye Bath with Ocre\, Embellishment Workshop with Debbie Alsop \nMakerWorld’s workshops with The Children’s Art School \nChalk Pavement Drawings with Creative Scene \nArt Doctors \nKnit & Knatter \nFace painting \nCookbook swap and giveaway \nMake a fabric swatch book with Bev \n– Explore a buzzing makers market \n– Feast on delicious food from around the world including: \nWest African food from Delice d’Ivoire\, Gambian cuisine from Foe Yams\, Indian street food from Chaat Corner \nSweet treats from The Candy Plug.  Fresh coffee\, bubble tea\,  milkshakes and more from the Cup Cake Cafe. \nDrinks and a bar from Ak Distillery \nMusic in the precinct and on a main stage featuring Mitchy Music\, DJ Anna Tuck\, Yorkshire Folk Choir\, Bhangra Morris Mash Up\, MaxJones\, DJ Deepsta and Southern Comfort \nPlus lots more happening\, stay tuned for more. \nThe event takes place over Dewsbury Town Centre throughout The Princess of Wales Precinct and Longcausway. \nDon’t miss the fun day out\, there’s something for everyone. Free to attend\, drop in anytime!
URL:https://woveninkirklees.co.uk/event/dewsbury-woven-mash-up/
LOCATION:Dewsbury Town Centre\, Dewsbury\, WF13 1DQ
CATEGORIES:Clothes Swap,Demonstration/Workshop,Family Friendly,Music/Performance,WOVEN Commissioned
ATTACH;FMTTYPE=image/jpeg:https://woveninkirklees.co.uk/wp-content/uploads/2023/06/03.06A-2-scaled.jpg
GEO:53.6915697;-1.6292798
END:VEVENT
BEGIN:VEVENT
DTSTART;TZID=Europe/London:20250614T110000
DTEND;TZID=Europe/London:20250614T140000
DTSTAMP:20260422T075855
CREATED:20250401T084015Z
LAST-MODIFIED:20250401T090416Z
UID:7973-1749898800-1749909600@woveninkirklees.co.uk
SUMMARY:The Huddersfield Clothes Swap
DESCRIPTION:Join us at the Huddersfield clothes swap at Thread Republic! Our clothes swaps take place on the second Saturday of the month and are free to attend. \nHow it works: \n– Bring along up to 10 items of good quality clothing \n– Check them in and exchange for tokens \n– Browse the rails to choose new-to-you items \n– Check them out and return your tokens or keep your tokens for the next swap! \nAdults and childrens clothing accepted. \nNo underwear\, accessories or shoes please. \nThis event is part of the WOVEN community programme\, please contact Thread Republic if you have any questions.
URL:https://woveninkirklees.co.uk/event/the-huddersfield-clothes-swap/
LOCATION:Thread Republic\, Unit 42-44\, Princess Alexandra Walk\, Huddersfield\, HD1 2RS\, United Kingdom
CATEGORIES:Clothes Swap
ATTACH;FMTTYPE=image/jpeg:https://woveninkirklees.co.uk/wp-content/uploads/2025/03/ThreadRepublic_clothes_swap_-scaled.jpg
GEO:53.6443702;-1.7814129
X-APPLE-STRUCTURED-LOCATION;VALUE=URI;X-ADDRESS=Thread Republic Unit 42-44 Princess Alexandra Walk Huddersfield HD1 2RS United Kingdom;X-APPLE-RADIUS=500;X-TITLE=Unit 42-44\, Princess Alexandra Walk:geo:-1.7814129,53.6443702
END:VEVENT
BEGIN:VEVENT
DTSTART;TZID=Europe/London:20250531T110000
DTEND;TZID=Europe/London:20250531T150000
DTSTAMP:20260422T075855
CREATED:20250501T142607Z
LAST-MODIFIED:20250501T142607Z
UID:8350-1748689200-1748703600@woveninkirklees.co.uk
SUMMARY:WOVEN and Dewsbury Arcade Clothes Swap and Makers Market
DESCRIPTION:Join Dewsbury Arcade and WOVEN for the next Clothes Swap and Makers Market. \nAt the SWAP you will be able to bring up to 10 items of pre-loved clothing that you can then swap on the day\, getting a refresh of your wardrobe and keeping clothes out of landfill. \nAs well as the SWAP we have local makers\, artists and crafts people\, selling unique items. \nThe fun doesn’t stop there\, come and make textile flowers! This year Kirklees will be in textile bloom across the district and we need as many beautiful flowers that can be made. So join in the fun\, learn a new skill and be part of a wonderful community yarn bomb. \nWhy not bring along a craft project you can finish off and share with other crafties over a cuppa and cake.
URL:https://woveninkirklees.co.uk/event/woven-and-dewsbury-arcade-clothes-swap-and-makers-market/
LOCATION:The Arcade Pop Up Space\, 25 Princess of Wales Mall\, Dewsbury\, WF13 1NH\, United Kingdom
CATEGORIES:Clothes Swap,Demonstration/Workshop,Family Friendly,Yarn Bomb
ATTACH;FMTTYPE=image/jpeg:https://woveninkirklees.co.uk/wp-content/uploads/2025/05/arcade_dewsbury_25.011-scaled-e1746109295835.jpg
GEO:53.6903659;-1.6290462
X-APPLE-STRUCTURED-LOCATION;VALUE=URI;X-ADDRESS=The Arcade Pop Up Space 25 Princess of Wales Mall Dewsbury WF13 1NH United Kingdom;X-APPLE-RADIUS=500;X-TITLE=25 Princess of Wales Mall:geo:-1.6290462,53.6903659
END:VEVENT
BEGIN:VEVENT
DTSTART;TZID=Europe/London:20250426T110000
DTEND;TZID=Europe/London:20250426T150000
DTSTAMP:20260422T075855
CREATED:20250409T151741Z
LAST-MODIFIED:20250409T151741Z
UID:8260-1745665200-1745679600@woveninkirklees.co.uk
SUMMARY:Clothes Swap & Makers Market
DESCRIPTION:Join Dewsbury Arcade and WOVEN for the next Clothes Swap and Makers Market. \nAt the SWAP you will be able to bring up to 10 items of pre-loved clothing that you can then swap on the day\, getting a refresh of your wardrobe and keeping clothes out of landfill. \nAs well as the SWAP we have local makers\, artists and crafts people\, selling unique items. \nThe fun doesn’t stop there\, come learn how to make a Dorset Button with Grandma’s Attic. This is great opportunity to learn a fantastic heritage craft !! \nWhy not bring along a craft project you can finish off and share with other crafties over a cuppa and cake.
URL:https://woveninkirklees.co.uk/event/clothes-swap-makers-market-4/
LOCATION:The Arcade Pop Up Space\, 25 Princess of Wales Mall\, Dewsbury\, WF13 1NH\, United Kingdom
CATEGORIES:Clothes Swap,Demonstration/Workshop,Family Friendly,Market
ATTACH;FMTTYPE=image/jpeg:https://woveninkirklees.co.uk/wp-content/uploads/2025/04/mbh19-scaled.jpg
GEO:53.6903659;-1.6290462
X-APPLE-STRUCTURED-LOCATION;VALUE=URI;X-ADDRESS=The Arcade Pop Up Space 25 Princess of Wales Mall Dewsbury WF13 1NH United Kingdom;X-APPLE-RADIUS=500;X-TITLE=25 Princess of Wales Mall:geo:-1.6290462,53.6903659
END:VEVENT
BEGIN:VEVENT
DTSTART;TZID=Europe/London:20250329T110000
DTEND;TZID=Europe/London:20250329T150000
DTSTAMP:20260422T075855
CREATED:20250110T110851Z
LAST-MODIFIED:20250313T103736Z
UID:6876-1743246000-1743260400@woveninkirklees.co.uk
SUMMARY:Clothes Swap & Makers Market
DESCRIPTION:Join Dewsbury Arcade and WOVEN for the next Clothes Swap and Makers Market. \nAt the SWAP you will be able to bring up to 10 items of pre-loved clothing that you can then swap on the day\, getting a refresh of your wardrobe and keeping clothes out of landfill. \nAs well as the SWAP we have local makers\, artists and crafts people\, selling unique items. \nPlus a clay workshop run by The Clay Mill. Please note this workshop is not suitable for children.
URL:https://woveninkirklees.co.uk/event/clothes-swap-makers-market-2/
LOCATION:The Arcade Pop Up Space\, 25 Princess of Wales Mall\, Dewsbury\, WF13 1NH\, United Kingdom
CATEGORIES:Clothes Swap,Demonstration/Workshop,Family Friendly,Market
ATTACH;FMTTYPE=image/jpeg:https://woveninkirklees.co.uk/wp-content/uploads/2025/01/mbh19-scaled.jpg
GEO:53.6903659;-1.6290462
X-APPLE-STRUCTURED-LOCATION;VALUE=URI;X-ADDRESS=The Arcade Pop Up Space 25 Princess of Wales Mall Dewsbury WF13 1NH United Kingdom;X-APPLE-RADIUS=500;X-TITLE=25 Princess of Wales Mall:geo:-1.6290462,53.6903659
END:VEVENT
BEGIN:VEVENT
DTSTART;TZID=Europe/London:20250215T110000
DTEND;TZID=Europe/London:20250215T150000
DTSTAMP:20260422T075855
CREATED:20250110T154300Z
LAST-MODIFIED:20250110T154358Z
UID:6896-1739617200-1739631600@woveninkirklees.co.uk
SUMMARY:Clothes Swap & Makers Market
DESCRIPTION:Join Dewsbury Arcade and WOVEN for the next Clothes Swap and Makers Market. \nAt the SWAP you will be able to bring up to 10 items of pre-loved clothing that you can then swap on the day\, getting a refresh of your wardrobe and keeping clothes out of landfill. \nAs well as the SWAP we have local makers\, artists and crafts people\, selling unique items. \nThe fun doesn’t stop there\, join in our fun creative workshop for all the family and why not bring along a craft project you can finish off and share with other crafties over a cuppa and cake.
URL:https://woveninkirklees.co.uk/event/clothes-swap-makers-market-3/
LOCATION:The Arcade Pop Up Space\, 25 Princess of Wales Mall\, Dewsbury\, WF13 1NH\, United Kingdom
CATEGORIES:Clothes Swap,Demonstration/Workshop,Family Friendly,Market
ATTACH;FMTTYPE=image/jpeg:https://woveninkirklees.co.uk/wp-content/uploads/2025/01/mbh16-scaled.jpg
GEO:53.6903659;-1.6290462
X-APPLE-STRUCTURED-LOCATION;VALUE=URI;X-ADDRESS=The Arcade Pop Up Space 25 Princess of Wales Mall Dewsbury WF13 1NH United Kingdom;X-APPLE-RADIUS=500;X-TITLE=25 Princess of Wales Mall:geo:-1.6290462,53.6903659
END:VEVENT
BEGIN:VEVENT
DTSTART;TZID=Europe/London:20250125T110000
DTEND;TZID=Europe/London:20250125T150000
DTSTAMP:20260422T075855
CREATED:20250110T152311Z
LAST-MODIFIED:20250110T162351Z
UID:6890-1737802800-1737817200@woveninkirklees.co.uk
SUMMARY:Clothes Swap and Makers Market
DESCRIPTION:Join Dewsbury Arcade and WOVEN for the next Clothes Swap and Makers Market. \nAt the SWAP you will be able to bring up to 10 items of pre-loved clothing that you can then swap on the day\, getting a refresh of your wardrobe and keeping clothes out of landfill. \nTo discover even more about saving clothes from landfill and saving money join our workshop talking all things Vinted (and other reputable online market places). \nAs well as the SWAP we have local makers\, artists and crafts people\, selling unique items. \nWhy not bring along a craft project you can finish off and share with other crafties over a cuppa and cake.
URL:https://woveninkirklees.co.uk/event/clothes-swap-and-makers-market/
LOCATION:The Arcade Pop Up Space\, 25 Princess of Wales Mall\, Dewsbury\, WF13 1NH\, United Kingdom
CATEGORIES:Clothes Swap,Demonstration/Workshop,Family Friendly,Market
ATTACH;FMTTYPE=image/jpeg:https://woveninkirklees.co.uk/wp-content/uploads/2025/01/5b90232c3e4d42ec8d16b4e33119f37e.jpg
GEO:53.6903659;-1.6290462
X-APPLE-STRUCTURED-LOCATION;VALUE=URI;X-ADDRESS=The Arcade Pop Up Space 25 Princess of Wales Mall Dewsbury WF13 1NH United Kingdom;X-APPLE-RADIUS=500;X-TITLE=25 Princess of Wales Mall:geo:-1.6290462,53.6903659
END:VEVENT
BEGIN:VEVENT
DTSTART;TZID=Europe/London:20241207T110000
DTEND;TZID=Europe/London:20241207T150000
DTSTAMP:20260422T075855
CREATED:20241010T195106Z
LAST-MODIFIED:20241010T195106Z
UID:6790-1733569200-1733583600@woveninkirklees.co.uk
SUMMARY:Deck The Halls on a Budget\, plus Woven & The Arcade Clothes Swap and Makers Market
DESCRIPTION:Join Dewsbury Arcade and WOVEN for the next Clothes Swap and Makers Market. \nAt the SWAP you will be able to bring up to 10 items of pre-loved clothing that you can then swap on the day\, getting a refresh of your wardrobe and keeping clothes out of landfill. \nAs well as the SWAP we have local makers\, artists and crafts people\, selling unique items. \nThe fun doesn’t stop there\, Join in a Christmas on a budget workshop for all the family and why not bring along a craft project you can finish off and share with other crafties over a cuppa and cake.
URL:https://woveninkirklees.co.uk/event/deck-the-halls-on-a-budget-plus-woven-the-arcade-clothes-swap-and-makers-market/
LOCATION:The Arcade Pop Up Space\, 25 Princess of Wales Mall\, Dewsbury\, WF13 1NH\, United Kingdom
CATEGORIES:Clothes Swap,Demonstration/Workshop,Exhibition,Family Friendly,Market
ATTACH;FMTTYPE=image/jpeg:https://woveninkirklees.co.uk/wp-content/uploads/2024/03/Woven-Swap-Sew-5-scaled.jpg
GEO:53.6903659;-1.6290462
X-APPLE-STRUCTURED-LOCATION;VALUE=URI;X-ADDRESS=The Arcade Pop Up Space 25 Princess of Wales Mall Dewsbury WF13 1NH United Kingdom;X-APPLE-RADIUS=500;X-TITLE=25 Princess of Wales Mall:geo:-1.6290462,53.6903659
END:VEVENT
BEGIN:VEVENT
DTSTART;TZID=Europe/London:20241026T110000
DTEND;TZID=Europe/London:20241026T150000
DTSTAMP:20260422T075855
CREATED:20241010T180703Z
LAST-MODIFIED:20241010T194718Z
UID:6755-1729940400-1729954800@woveninkirklees.co.uk
SUMMARY:Clothes Swap & Makers Market
DESCRIPTION:Join Dewsbury Arcade and WOVEN for the next Clothes Swap and Makers Market. \nAt the SWAP you will be able to bring up to 10 items of pre-loved clothing that you can then swap on the day\, getting a refresh of your wardrobe and keeping clothes out of landfill. \nAs well as the SWAP we have local makers\, artists and crafts people\, selling unique items. \nThe fun doesn’t stop there\, Join in a Halloween workshop for all the family and why not bring along a craft project you can finish off and share with other crafties over a cuppa and cake.
URL:https://woveninkirklees.co.uk/event/clothes-swap-makers-market/
LOCATION:The Arcade Pop Up Space\, 25 Princess of Wales Mall\, Dewsbury\, WF13 1NH\, United Kingdom
CATEGORIES:Clothes Swap,Demonstration/Workshop,Family Friendly,Market
ATTACH;FMTTYPE=image/jpeg:https://woveninkirklees.co.uk/wp-content/uploads/2024/03/Woven-Swap-Sew-9-scaled.jpg
GEO:53.6903659;-1.6290462
X-APPLE-STRUCTURED-LOCATION;VALUE=URI;X-ADDRESS=The Arcade Pop Up Space 25 Princess of Wales Mall Dewsbury WF13 1NH United Kingdom;X-APPLE-RADIUS=500;X-TITLE=25 Princess of Wales Mall:geo:-1.6290462,53.6903659
END:VEVENT
BEGIN:VEVENT
DTSTART;TZID=Europe/London:20240518T110000
DTEND;TZID=Europe/London:20240518T140000
DTSTAMP:20260422T075855
CREATED:20240423T171107Z
LAST-MODIFIED:20240423T171500Z
UID:6290-1716030000-1716040800@woveninkirklees.co.uk
SUMMARY:WOVEN at The Arcade: Clothes Swap and Market Place
DESCRIPTION:Following the successful February makers market\, WOVEN and The Arcade Group in Dewsbury are hosting a Clothes Swap and Market Place \nDewsbury Town Hall on the 18th of May from 11-2pm.\nBring items you want to swap\, (more info to come) and take away lots of lovely goodies! \nThere will also be workshops for all the family and a makers market so you can go away with something unique! \n 
URL:https://woveninkirklees.co.uk/event/woven-at-the-arcade-clothes-swap-and-market-place/
LOCATION:Dewsbury Town Hall\, Wakefield Old Road\, Dewsbury\, WF13 8DG\, United Kingdom
CATEGORIES:Clothes Swap,Demonstration/Workshop,Market,Sewing
ATTACH;FMTTYPE=image/png:https://woveninkirklees.co.uk/wp-content/uploads/2024/04/screenshot_20240411_at_21.54.51.png
GEO:53.6917186;-1.6266668
X-APPLE-STRUCTURED-LOCATION;VALUE=URI;X-ADDRESS=Dewsbury Town Hall Wakefield Old Road Dewsbury WF13 8DG United Kingdom;X-APPLE-RADIUS=500;X-TITLE=Wakefield Old Road:geo:-1.6266668,53.6917186
END:VEVENT
BEGIN:VEVENT
DTSTART;TZID=Europe/London:20230702T110000
DTEND;TZID=Europe/London:20230702T150000
DTSTAMP:20260422T075855
CREATED:20230411T071047Z
LAST-MODIFIED:20230416T200748Z
UID:4113-1688295600-1688310000@woveninkirklees.co.uk
SUMMARY:Swap & Sew
DESCRIPTION:Bring along up to 10 items of clothing in good condition and swap for new-to-you clothing. Children\, and their unwanted clothes\, are welcome. \nFairtrade refreshments are available for a donation. Learn to patch repair using creative hand sewing techniques at the open drop-in workshop. All materials provided. \n£2 per adult and under 16’s are free. \nThis event is part of the WOVEN community programme. If you have any questions please contact Thread Republic directly.
URL:https://woveninkirklees.co.uk/event/swap-sew/
LOCATION:Thread Republic\, Unit 42-44\, Princess Alexandra Walk\, Huddersfield\, HD1 2RS\, United Kingdom
CATEGORIES:Clothes Swap,Community Submitted,Demonstration/Workshop,Family Friendly,Sewing
ATTACH;FMTTYPE=image/png:https://woveninkirklees.co.uk/wp-content/uploads/2023/04/Screenshot-2023-04-09-at-20.35.53.png
GEO:53.6443702;-1.7814129
X-APPLE-STRUCTURED-LOCATION;VALUE=URI;X-ADDRESS=Thread Republic Unit 42-44 Princess Alexandra Walk Huddersfield HD1 2RS United Kingdom;X-APPLE-RADIUS=500;X-TITLE=Unit 42-44\, Princess Alexandra Walk:geo:-1.7814129,53.6443702
END:VEVENT
END:VCALENDAR