BEGIN:VCALENDAR
VERSION:2.0
PRODID:-//WOVEN - ECPv6.0.12//NONSGML v1.0//EN
CALSCALE:GREGORIAN
METHOD:PUBLISH
X-ORIGINAL-URL:https://woveninkirklees.co.uk
X-WR-CALDESC:Events for WOVEN
REFRESH-INTERVAL;VALUE=DURATION:PT1H
X-Robots-Tag:noindex
X-PUBLISHED-TTL:PT1H
BEGIN:VTIMEZONE
TZID:Europe/London
BEGIN:DAYLIGHT
TZOFFSETFROM:+0000
TZOFFSETTO:+0100
TZNAME:BST
DTSTART:20240331T010000
END:DAYLIGHT
BEGIN:STANDARD
TZOFFSETFROM:+0100
TZOFFSETTO:+0000
TZNAME:GMT
DTSTART:20241027T010000
END:STANDARD
END:VTIMEZONE
BEGIN:VEVENT
DTSTART;TZID=Europe/London:20240201T130000
DTEND;TZID=Europe/London:20240531T220000
DTSTAMP:20260421T201542
CREATED:20240207T115426Z
LAST-MODIFIED:20240207T115426Z
UID:5944-1706792400-1717192800@woveninkirklees.co.uk
SUMMARY:Fab Art at The Farmers
DESCRIPTION:A selection of about 10 framed modernist textile designs by Jill Hayfield in the newly built garden room. \nThe group is refreshed every few weeks. \nContemporary stitch upon a variety of fabrics. \nAll are unique one off works of art which will look great in a domestic setting. \nBest viewed in daylight.
URL:https://woveninkirklees.co.uk/event/fab-art-at-the-farmers/
LOCATION:The Farmers Arms\, Liphill Bank Road\, Holmfirth\, HD9 2LR\, United Kingdom
CATEGORIES:Exhibition,Visual Art
ATTACH;FMTTYPE=image/jpeg:https://woveninkirklees.co.uk/wp-content/uploads/2024/02/img_6722.jpeg-scaled.jpg
GEO:53.5666367;-1.8036168
X-APPLE-STRUCTURED-LOCATION;VALUE=URI;X-ADDRESS=The Farmers Arms Liphill Bank Road Holmfirth HD9 2LR United Kingdom;X-APPLE-RADIUS=500;X-TITLE=Liphill Bank Road:geo:-1.8036168,53.5666367
END:VEVENT
BEGIN:VEVENT
DTSTART;TZID=Europe/London:20240217T110000
DTEND;TZID=Europe/London:20240217T160000
DTSTAMP:20260421T201542
CREATED:20231126T230255Z
LAST-MODIFIED:20240127T174913Z
UID:5777-1708167600-1708185600@woveninkirklees.co.uk
SUMMARY:STRUT Exhibition: Celebrating Creativity in Dewsbury
DESCRIPTION:FREE FAMILY-FRIENDLY EXHIBITION\nCommunity Event \nTHIS EVENT WILL BE AN ACTIVE SPACE FOR MAKING. Full of fun workshops for skill-making\, music and activities for all the family – a place to find out more about the groups that are doing great things in Dewsbury and an opportunity to talk to the WOVEN team about the future of WOVEN in Dewsbury. \nFree Activities \n\nMake a ‘jam jar greenhouse’ to grow your own natural dye plant with artist Karen Stansfield.\nCreate a concertina sketchbook with artist Harriet Lawson.\nSound Walks with Duncan Chapman from Manasamitra [Sounds of Dewsbury tours: 11am – the Looking Up walk; 12.30pm – The Artworks walk; 2.00pm – the Heritage walk] \nHave your portrait taken at Casey Orr’s Pop Up Photo Studio.\nFree face painting with Artifaces.\n\nCommunity & Makers Market\nTreat yourself to handmade crafts & meet groups supporting creativity in Dewsbury including: Craft and Laughter Community group; ESapphireShop; Mindful Maker CIC; Naturally Woodland; Nesh; Paige Eden; Real Hand Sewnful; Quirky Doodle Ceramic’s; Taylor made by Anne; Zillion Arts and Crafts; Callaloo Carnival Arts; Alpoopers; CLEAR\, Dewsbury Arcade; Thread Republic; Dewsbury Community Outreach; Dewsbury & District Third Age; Kirklees Cohesion Team. \nMusic throughout from: Lizzey Ross & Lloyd Degler\, Mitchy Music; Dewsbury Community Choir; Simon Walker; Crystal Visions.  \nJoin us on the dance floor from 3-4pm with music from DJ Beth Hollway! \nThree Day event includes: \nFriday 16th: 12.30 – 5pm – Visit the Exhibition\nSaturday 17th: 11am – 4pm – Community event\nSunday 18th: 11am – 4pm – Drop in & say hi to the WOVEN Team
URL:https://woveninkirklees.co.uk/event/strut-celebrating-creativity-in-dewsbury-2024-02-17/
LOCATION:Dewsbury Town Hall\, Wakefield Old Road\, Dewsbury\, WF13 8DG\, United Kingdom
CATEGORIES:Exhibition
ATTACH;FMTTYPE=image/jpeg:https://woveninkirklees.co.uk/wp-content/uploads/2023/11/03.06a5-scaled.jpg
GEO:53.6917186;-1.6266668
X-APPLE-STRUCTURED-LOCATION;VALUE=URI;X-ADDRESS=Dewsbury Town Hall Wakefield Old Road Dewsbury WF13 8DG United Kingdom;X-APPLE-RADIUS=500;X-TITLE=Wakefield Old Road:geo:-1.6266668,53.6917186
END:VEVENT
END:VCALENDAR