BEGIN:VCALENDAR
VERSION:2.0
PRODID:-//WOVEN - ECPv6.0.12//NONSGML v1.0//EN
CALSCALE:GREGORIAN
METHOD:PUBLISH
X-ORIGINAL-URL:https://woveninkirklees.co.uk
X-WR-CALDESC:Events for WOVEN
REFRESH-INTERVAL;VALUE=DURATION:PT1H
X-Robots-Tag:noindex
X-PUBLISHED-TTL:PT1H
BEGIN:VTIMEZONE
TZID:Europe/London
BEGIN:DAYLIGHT
TZOFFSETFROM:+0000
TZOFFSETTO:+0100
TZNAME:BST
DTSTART:20240331T010000
END:DAYLIGHT
BEGIN:STANDARD
TZOFFSETFROM:+0100
TZOFFSETTO:+0000
TZNAME:GMT
DTSTART:20241027T010000
END:STANDARD
END:VTIMEZONE
BEGIN:VEVENT
DTSTART;TZID=Europe/London:20240119T103000
DTEND;TZID=Europe/London:20240119T120000
DTSTAMP:20260420T110107
CREATED:20240117T132655Z
LAST-MODIFIED:20240117T151958Z
UID:5783-1705660200-1705665600@woveninkirklees.co.uk
SUMMARY:A Celebration of Textile Heritage
DESCRIPTION:A Celebration of Textile Heritage continues the work of Mission To Mend – a WOVEN in Kirklees project\, funded by the Heritage Lottery Fund.\n\nJoin us to learn more about the textile heritage of Kirklees and local textile groups.\n\nBring along a textile item that you have made or mended and share its story.
URL:https://woveninkirklees.co.uk/event/a-celebration-of-textile-heritage/
LOCATION:Holmfirth Library\, 47 Huddersfield Rd\, Holmfirth\, HD9 3JH\, United Kingdom
CATEGORIES:Demonstration/Workshop
ATTACH;FMTTYPE=image/jpeg:https://woveninkirklees.co.uk/wp-content/uploads/2024/01/a_celebration_of_textile_heritage__holmfirth.jpg
GEO:53.5700248;-1.7881894
X-APPLE-STRUCTURED-LOCATION;VALUE=URI;X-ADDRESS=Holmfirth Library 47 Huddersfield Rd Holmfirth HD9 3JH United Kingdom;X-APPLE-RADIUS=500;X-TITLE=47 Huddersfield Rd:geo:-1.7881894,53.5700248
END:VEVENT
END:VCALENDAR