BEGIN:VCALENDAR
VERSION:2.0
PRODID:-//WOVEN - ECPv6.0.12//NONSGML v1.0//EN
CALSCALE:GREGORIAN
METHOD:PUBLISH
X-ORIGINAL-URL:https://woveninkirklees.co.uk
X-WR-CALDESC:Events for WOVEN
REFRESH-INTERVAL;VALUE=DURATION:PT1H
X-Robots-Tag:noindex
X-PUBLISHED-TTL:PT1H
BEGIN:VTIMEZONE
TZID:Europe/London
BEGIN:DAYLIGHT
TZOFFSETFROM:+0000
TZOFFSETTO:+0100
TZNAME:BST
DTSTART:20230326T010000
END:DAYLIGHT
BEGIN:STANDARD
TZOFFSETFROM:+0100
TZOFFSETTO:+0000
TZNAME:GMT
DTSTART:20231029T010000
END:STANDARD
END:VTIMEZONE
BEGIN:VEVENT
DTSTART;TZID=Europe/London:20231129T180000
DTEND;TZID=Europe/London:20231129T200000
DTSTAMP:20260420T035442
CREATED:20231126T223947Z
LAST-MODIFIED:20231128T215728Z
UID:5706-1701280800-1701288000@woveninkirklees.co.uk
SUMMARY:Huddersfield Stitch Social & WOVEN Consultation
DESCRIPTION:WOVEN started its festival journey in 2019 with a series of open planning sessions so that people could share what they wanted from the festival. In 2023/2024 it’s time to ask again… what does the future of WOVEN look like? Come along and let us know! \nCome along with your creative projects as usual from 6-8pm and we’ll be chatting about this and more over a cuppa and some biscuits!
URL:https://woveninkirklees.co.uk/event/huddersfield-stitch-social-woven-consultation/
LOCATION:Thread Republic\, Unit 42-44\, Princess Alexandra Walk\, Huddersfield\, HD1 2RS\, United Kingdom
CATEGORIES:Consultation,Sewing
ATTACH;FMTTYPE=image/png:https://woveninkirklees.co.uk/wp-content/uploads/2023/11/screenshot_20231122_at_19.59.54.png
GEO:53.6443702;-1.7814129
X-APPLE-STRUCTURED-LOCATION;VALUE=URI;X-ADDRESS=Thread Republic Unit 42-44 Princess Alexandra Walk Huddersfield HD1 2RS United Kingdom;X-APPLE-RADIUS=500;X-TITLE=Unit 42-44\, Princess Alexandra Walk:geo:-1.7814129,53.6443702
END:VEVENT
END:VCALENDAR