BEGIN:VCALENDAR
VERSION:2.0
PRODID:-//WOVEN - ECPv6.0.12//NONSGML v1.0//EN
CALSCALE:GREGORIAN
METHOD:PUBLISH
X-ORIGINAL-URL:https://woveninkirklees.co.uk
X-WR-CALDESC:Events for WOVEN
REFRESH-INTERVAL;VALUE=DURATION:PT1H
X-Robots-Tag:noindex
X-PUBLISHED-TTL:PT1H
BEGIN:VTIMEZONE
TZID:Europe/London
BEGIN:DAYLIGHT
TZOFFSETFROM:+0000
TZOFFSETTO:+0100
TZNAME:BST
DTSTART:20230326T010000
END:DAYLIGHT
BEGIN:STANDARD
TZOFFSETFROM:+0100
TZOFFSETTO:+0000
TZNAME:GMT
DTSTART:20231029T010000
END:STANDARD
END:VTIMEZONE
BEGIN:VEVENT
DTSTART;TZID=Europe/London:20231128T130000
DTEND;TZID=Europe/London:20231128T160000
DTSTAMP:20260420T021230
CREATED:20231126T225138Z
LAST-MODIFIED:20231126T225138Z
UID:5713-1701176400-1701187200@woveninkirklees.co.uk
SUMMARY:WOVEN Future Planning Event
DESCRIPTION:WOVEN started its festival journey in 2019 with a series of open planning sessions so that people could tell us what they wanted from the festival. In 2023/2024 it’s time to ask again\, what does the future of WOVEN look like? Come along and let us know. \nAt Birkby and Fartown\, Thread Republic and artist Cherry Styles will take you through a creative way to rip up the programme and start again! \nNo sewing experience required & all materials provided.
URL:https://woveninkirklees.co.uk/event/woven-future-planning-event/
LOCATION:Birkby and Fartown Library\, Lea Street\, Hillhouse\, Huddersfield\, HD1 6HF\, United Kingdom
CATEGORIES:Consultation,Demonstration/Workshop
ATTACH;FMTTYPE=image/png:https://woveninkirklees.co.uk/wp-content/uploads/2023/11/screenshot_20231122_at_19.39.32.png
GEO:53.6584156;-1.7838123
X-APPLE-STRUCTURED-LOCATION;VALUE=URI;X-ADDRESS=Birkby and Fartown Library Lea Street Hillhouse Huddersfield HD1 6HF United Kingdom;X-APPLE-RADIUS=500;X-TITLE=Lea Street\, Hillhouse:geo:-1.7838123,53.6584156
END:VEVENT
END:VCALENDAR