BEGIN:VCALENDAR
VERSION:2.0
PRODID:-//WOVEN - ECPv6.0.12//NONSGML v1.0//EN
CALSCALE:GREGORIAN
METHOD:PUBLISH
X-WR-CALNAME:WOVEN
X-ORIGINAL-URL:https://woveninkirklees.co.uk
X-WR-CALDESC:Events for WOVEN
REFRESH-INTERVAL;VALUE=DURATION:PT1H
X-Robots-Tag:noindex
X-PUBLISHED-TTL:PT1H
BEGIN:VTIMEZONE
TZID:Europe/London
BEGIN:DAYLIGHT
TZOFFSETFROM:+0000
TZOFFSETTO:+0100
TZNAME:BST
DTSTART:20230326T010000
END:DAYLIGHT
BEGIN:STANDARD
TZOFFSETFROM:+0100
TZOFFSETTO:+0000
TZNAME:GMT
DTSTART:20231029T010000
END:STANDARD
END:VTIMEZONE
BEGIN:VEVENT
DTSTART;VALUE=DATE:20230515
DTEND;VALUE=DATE:20230801
DTSTAMP:20260419T131839
CREATED:20230508T133825Z
LAST-MODIFIED:20230508T133825Z
UID:4598-1684108800-1690847999@woveninkirklees.co.uk
SUMMARY:Creating Coloured Cloth at Kirklees Local Studies Library
DESCRIPTION:Come and see a selection of historic books and photographs in our newly relocated Local History Library in Huddersfield Town Centre. Also examples of local craft dyeing and weaving in partnership with Growing Colour Together. \nThere will be a window display\, books in cabinets and shelves to browse. We are celebrating the social and technological history of our area\, in particular the dyeing industry. \nOpen: Mon 9-7\, Tues 9-5\, Wed 9-5\, Thurs 10-7\, Fri 9-5\, Sat 9-4.30
URL:https://woveninkirklees.co.uk/event/creating-coloured-cloth-at-kirklees-local-studies-library/
LOCATION:Kirklees Local Studies Library\, Victoria Lane\, Huddersfield\, HD1 2QF\, United Kingdom
CATEGORIES:Community Submitted,Exhibition
ATTACH;FMTTYPE=image/jpeg:https://woveninkirklees.co.uk/wp-content/uploads/2023/05/dye_house_broadfield_mills_1902.jpeg-scaled.jpg
GEO:53.64494;-1.7817708
X-APPLE-STRUCTURED-LOCATION;VALUE=URI;X-ADDRESS=Kirklees Local Studies Library Victoria Lane Huddersfield HD1 2QF United Kingdom;X-APPLE-RADIUS=500;X-TITLE=Victoria Lane:geo:-1.7817708,53.64494
END:VEVENT
END:VCALENDAR